Workbook

Sheet Anexa 1
B1: Nr. crt. | C1: Tip | D1: Serviciul | E1: Obiectul contractului | F1: Cod CPV | G1: CET | H1: Valoarea estimata (lei fara TVA) | I1: Sursa de finantare | J1: Procedura ce urmeaza a fi aplicata | K1: Data estimata pentru initiere procedura procedura | L1: Data estimata pentru finalizare procedura | M1: Modalitatea de derulare procedura de achizitie (on / off line) | N1: Perioada estimata pentru darea in consum (trim, an) | O1: Similare | P1: Persoana responsabila cu aplicarea procedurii de atribuire | Q1: Valoare estimata a se cheltui in 2022 | R1: Valoare estimata a se cheltui in 2023 | S1: Valoare estimata a se cheltui in 2024, 2025 ...
C3: I | E3: FONDURI DE PRODUCTIE
C5: IA | E5: ACHIZITII DE PRODUSE
B6: IA1 | C6: produse | D6: Logistica | E6: Benzina fara plumb | F6: 09132100-4 | G6: ELCEN | H6: 70848 | I6: productie | J6: PS | K6: 44606 | L6: 44666 | M6: online | N6: trim I - IV | O6: P1 Logistica | P6: Ivascu | Q6: 16500 | R6: =70848-Q6 -> 54348
B7: IA2 | C7: produse | D7: Logistica | E7: Motorina | F7: 09134220-5 | G7: ELCEN | H7: 351979.2 | I7: productie | J7: PS | K7: 44576 | L7: 44635 | M7: online | N7: trim I - IV | O7: P1 Logistica | P7: Ivascu | Q7: 210184 | R7: =351979.2-Q7 -> 141795.2
B8: IA3 | C8: produse | D8: Aprov. | E8: Uleiuri pentru motoare si ulei Diesel | F8: 09211100-2 | G8: ELCEN | H8: 10000 | I8: productie | J8: PS | K8: 44683 | L8: 44743 | M8: online | N8: trim II - III | O8: P1 Aprov | P8: Almaciu | Q8: 10000 | R8: 0
B9: IA4 | C9: produse | D9: Logistica | E9: Ulei motor auto ( pt.completare ) | F9: 09211100-2 | G9: ELCEN | H9: 1000 | I9: productie | J9: PS | K9: conform solicitari | L9: conform solicitari | M9: online | N9: conform solicitari | O9: P1 Aprov | P9: Almaciu | Q9: 1000 | R9: 0
B10: IA5 | C10: produse | D10: Aprov. | E10: Uleiuri pentru compresoare | F10: 09211200-3 | G10: ELCEN | H10: 48000 | I10: productie | J10: PS | K10: 44653 | L10: 44713 | M10: online | N10: trim II - III | O10: P1 Aprov | P10: Almaciu | Q10: 48000 | R10: 0
B11: IA6 | C11: produse | D11: Aprov. | E11: Uleiuri pentru turbine | F11: 09211300-4 | G11: ELCEN | H11: 200000 | I11: productie | J11: PS | K11: 44622 | L11: 44682 | M11: online | N11: trim II - III | O11: P1 Aprov | P11: Almaciu | Q11: 200000 | R11: 0
B12: IA7 | C12: produse | D12: Aprov. | E12: Uleiuri pentru angrenaje, transmisii si reductoare | F12: 09211400-5 | G12: ELCEN | H12: 32000 | I12: productie | J12: PS | K12: 44653 | L12: 44713 | M12: online | N12: trim II - III | O12: P1 Aprov | P12: Almaciu | Q12: 32000 | R12: 0
B13: IA8 | C13: produse | D13: Aprov. | E13: Vaselina pentru rulmenti | F13: 09221100-5 | G13: ELCEN | H13: 5000 | I13: productie | J13: PS | K13: 44653 | L13: 44713 | M13: online | N13: trim II - III | O13: P13 Aprov | P13: Almaciu | Q13: 5000 | R13: 0
B14: IA9 | C14: produse | D14: Aprov. | E14: Sare bulgari | F14: 14410000-8 | G14: ELCEN | H14: 4503075 | I14: productie | J14: LD | K14: 44617 | L14: 44707 | M14: online | N14: trim I - IV | P14: Almaciu | Q14: 2626794 | R14: =4503075-Q14 -> 1876281
B15: IA10 | C15: produse | D15: Aprov. | E15: Lapte praf instant integral 26% grasime | F15: 15511700-0 | G15: ELCEN | H15: 235389.84 | I15: productie | J15: PS | K15: 44820 | L15: 44880 | M15: online | N15: trim I - IV | P15: Ionita | Q15: 20000 | R15: =235389.84-Q15 -> 215389.84
B16: IA11 | C16: produse | D16: Aprov. | E16: Salopete si halate de lucru | F16: 18114000-1 | G16: ELCEN | H16: 189471 | I16: productie | J16: PS | K16: 44641 | L16: 44701 | M16: online | N16: trim II | O16: P18 Aprov | P16: Almaciu | Q16: 100000 | R16: 89471
B17: IA12 | C17: produse | D17: Aprov. | E17: Imbracaminte speciala de lucru (Costum ignifugat, antipacura, etc) | F17: 18130000-9 | G17: ELCEN | H17: 34500 | I17: productie | J17: PS | K17: conform solicitari | L17: conform solicitari | M17: online | N17: trim II | O17: P18 Aprov | P17: Almaciu | Q17: 34500 | R17: 0
B18: IA13 | C18: produse | D18: Aprov. | E18: Accesorii pentru imbracaminte de lucru si echipamente de protectie (sorturi, jambiere, manusi, viziere) | F18: 18140000-2 | G18: ELCEN | H18: 170412 | I18: productie | J18: PS | K18: conform solicitari | L18: conform solicitari | M18: online | N18: trim II | P18: Almaciu | Q18: 100412 | R18: 70000
B19: IA14 | C19: produse | D19: Aprov. | E19: Imbracaminte de protectie impotiva intemperiilor (Haine vatuite, sube, imbracaminte cu gluga, pelerine impermeabile) | F19: 18220000-7 | G19: ELCEN | H19: 134625 | I19: productie | J19: PS | K19: 44641 | L19: 44701 | M19: online | N19: trim III | O19: P18 Aprov | P19: Almaciu | Q19: 90625 | R19: 44000
B20: IA15 | C20: produse | D20: Aprov. | E20: Incaltaminte de uz profesional (Cizme electroizolante IT + JT, Cizme antiacide, Cizme sold) | F20: 18810000-0 | G20: ELCEN | H20: 46370 | I20: productie | J20: PS | K20: conform solicitari | L20: conform solicitari | M20: online | N20: trim II | O20: P3 Aprov | P20: Almaciu | Q20: 46370 | R20: 0
B21: IA16 | C21: produse | D21: Aprov. | E21: Incaltaminte de protectie (Bocanci fara bombeu cu caramb inalt si pantofi, Bocanci cu bombeu metalic, Cizme din piele cu brant metalic) | F21: 18830000-6 | G21: ELCEN | H21: 139118 | I21: productie | J21: PS | K21: 44813 | L21: 44873 | M21: online | N21: trim IV | O21: P3 Aprov | P21: Almaciu | Q21: 100000 | R21: 39118
B22: IA17 | C22: produse | D22: Aprov. | E22: Gaze industriale pentru etalonari | F22: 24110000-8 | G22: ELCEN | H22: 53000 | I22: productie | J22: PS | K22: conform solicitari | L22: conform solicitari | M22: online | N22: trim I - IV | O22: P6 Aprov | P22: Almaciu | Q22: 53000 | R22: 0
B23: IA18 | C23: produse | D23: Aprov. | E23: Argon | F23: 24111100-6 | G23: ELCEN | H23: 6000 | I23: productie | J23: PS | K23: conform solicitari | L23: conform solicitari | M23: online | N23: trim I - IV | O23: P6 Aprov | P23: Almaciu | Q23: 6000 | R23: 0
B24: IA19 | C24: produse | D24: Aprov. | E24: Hidrogen | F24: 24111600-1 | G24: ELCEN | H24: 932161.06 | I24: productie | J24: PS | K24: 44789 | L24: 44849 | M24: online | N24: trim I - IV | O24: P6 Aprov | P24: Almaciu | Q24: 89638 | R24: =932161.06-Q24 -> 842523.06
B25: IA20 | C25: produse | D25: Aprov. | E25: Azot tehnic | F25: 24111700-2 | G25: ELCEN | H25: 11420 | I25: productie | J25: PS | K25: 44613 | L25: 44673 | M25: online | N25: trim I - IV | O25: P6 Aprov | P25: Almaciu | Q25: 8000 | R25: =11420-Q25 -> 3420
B26: IA21 | C26: produse | D26: Aprov. | E26: Oxigen | F26: 24111900-4 | G26: ELCEN | H26: 25000 | I26: productie | J26: PS | K26: 44789 | L26: 44849 | M26: online | N26: trim I - IV | O26: P6 Aprov | P26: Almaciu | Q26: 15000 | R26: 10000
B27: IA22 | C27: produse | D27: Aprov. | E27: Dioxid de carbon | F27: 24112100-3 | G27: ELCEN | H27: 17680 | I27: productie | J27: PS | K27: 44613 | L27: 44673 | M27: online | N27: trim I - IV | O27: P6 Aprov | P27: Almaciu | Q27: 6550 | R27: =17680-Q27 -> 11130
B28: IA23 | C28: produse | D28: Aprov. | E28: Var hidratat | F28: 24213000-0 | G28: ELCEN | H28: 2091000 | I28: productie | J28: LD | K28: 44617 | L28: 44677 | M28: online | N28: trim I - IV | P28: Almaciu | Q28: 1219750 | R28: =2091000-Q28 -> 871250
B29: IA24 | C29: produse | D29: Aprov. | E29: Hidrat de hidrazina | F29: 24311130-7 | G29: ELCEN | H29: 238140 | I29: productie | J29: PS | K29: 44668 | L29: 44728 | M29: online | N29: trim I - IV | O29: P11 Aprov | P29: Almaciu | Q29: 119070 | R29: 119070
B30: IA25 | C30: produse | D30: Aprov. | E30: Carbohidrazida | F30: 24311130-7 | G30: ELCEN | H30: 5500 | I30: productie | J30: PS | K30: conform solicitari | L30: conform solicitari | M30: online | N30: trim III | O30: P11 Aprov | P30: Almaciu | Q30: 5500 | R30: 0
B31: IA26 | C31: produse | D31: Aprov. | E31: Acid clorhidric de sinteza 32% si hidroxid de sodiu | F31: 24311400-1 | G31: ELCEN | H31: 7273600 | I31: productie | J31: LD | K31: 44692 | L31: 44782 | M31: online | N31: trim I - IV | P31: Marcas | Q31: 4242933 | R31: =7273600-Q31 -> 3030667
B32: IA27 | C32: produse | D32: Aprov. | E32: Sulfat de fier | F32: 24313000-1 | G32: ELCEN | H32: 2720000 | I32: productie | J32: PS modificat la LD | K32: 44591 | L32: 44651 | M32: online | N32: trim I - IV | P32: Marcas | Q32: 1586667 | R32: =2720000-Q32 -> 1133333
B33: IA28 | C33: produse | D33: Aprov. | E33: Rasini schimbatoare de ioni | F33: 24962000-5 | G33: ELCEN | H33: 1514834 | I33: productie | J33: PS | K33: 44566 | L33: 44621 | M33: online | N33: trim II-III | P33: Marcas | Q33: 89187 | R33: =1514834-Q33 -> 1425647
B34: IA29 | C34: produse | D34: SCM-AC | E34: Piese schimb sistem achizitie date | F34: 30237000-9 | G34: S | H34: 60000 | I34: productie | J34: PS | K34: 44592 | L34: 44652 | M34: online | N34: trim. 2, 3 | O34: P1 Ment | P34: Tudor | Q34: 60000 | R34: 0
B35: IA30 | C35: produse | D35: SCM-AC | E35: Achizitie senzori, lampi, consumabile aparatura laborator si instalatii de epurare | F35: 30237475-9 | G35: G, S | H35: 215000 | I35: productie | J35: PS | K35: 44591 | L35: 44651 | M35: online | N35: trim. 2, 3 | O35: P2 Ment | P35: Ivascu | Q35: 215000 | R35: 0
B36: IA31 | C36: produse | D36: SCM-AC | E36: Piese pentru motoare, generatoare şi transformatoare electrice | F36: 31160000-5 | G36: V | H36: 720000 | I36: productie | J36: PS | K36: 2022 | L36: 2022 | M36: online | N36: 2022 | P36: Petria | Q36: 720000 | R36: 0
B37: IA32 | C37: produse | D37: SCM-AC | E37: Piese schimb pentru cazane de abur | F37: 31161700-9 | G37: P, G, S | H37: 1613000 | I37: productie | J37: PS | K37: trim. 2, 3 | L37: trim. 2, 3 | M37: online | N37: trim 2, 3, 4 | P37: Marcas | Q37: 1613000 | R37: 0
B38: IA33 | C38: produse | D38: SCM-AC | E38: Aparate de distribuţie şi control ale energiei electrice | F38: 31200000-8 | G38: G, S | H38: 176000 | I38: productie | J38: PS | K38: 44591 | L38: 44651 | M38: online | N38: trim. 2, 3 | O38: P4 Ment | P38: Petria | Q38: 176000 | R38: 0
B39: IA34 | C39: produse | D39: Aprov. | E39: Intrerupatoare automate | F39: 31210000-1 | G39: ELCEN | H39: 25000 | I39: productie | J39: PS | K39: 44636 | L39: 44666 | M39: offline | N39: trim II | O39: P4 Ment | P39: Petria | Q39: 25000 | R39: 0
B40: IA35 | C40: produse | D40: SCM-AC | E40: Întrerupătoare | F40: 31214100-0 | G40: P, G | H40: 85000 | I40: productie | J40: PS | K40: trim. 2 | L40: trim. 2 | M40: online | N40: trim 2, 3, 4 | O40: P4 Ment | P40: Petria | Q40: 85000 | R40: 0
B41: IA36 | C41: produse | D41: SCM-AC | E41: Relee de protectie numerica | F41: 31221000-1 | G41: P | H41: 50000 | I41: productie | J41: PS | K41: 44682 | L41: 44742 | M41: online | N41: trim 3, 4 | O41: P4 Ment | P41: Petria | Q41: 50000 | R41: 0
B42: IA37 | C42: produse | D42: Aprov. | E42: Relee electrice | F42: 31221000-1 | G42: ELCEN | H42: 38000 | I42: productie | J42: PS | K42: conform solicitari | L42: conform solicitari | M42: offline | N42: trim II-III | O42: P4 Ment | P42: Petria | Q42: 38000 | R42: 0
B43: IA38 | C43: produse | D43: SCM-AC | E43: Piese schimb ELECTRIC/PRAM | F43: 31224000-2 | G43: S | H43: 75000 | I43: productie | J43: PS | K43: 44592 | L43: 44652 | M43: online | N43: trim. 2, 3 | O43: P4 Ment | P43: Petria | Q43: 75000 | R43: 0
B44: IA39 | C44: produse | D44: SCM-AC | E44: Piese de schimb aparate distributie energie electrica | F44: 31230000-7 | G44: V, S, G | H44: 162000 | I44: productie | J44: PS | K44: trim. 2 | L44: trim. 2 | M44: online | N44: trim. 2, 3 | O44: P4 Ment | P44: Petria | Q44: 162000 | R44: 0
B45: IA40 | C45: produse | D45: Aprov. | E45: Aparatura de iluminat si lampi electrice | F45: 31500000-1 | G45: ELCEN | H45: 492172.8 | I45: productie | J45: PS | K45: 44590 | L45: 44650 | M45: online | N45: trim III-IV | P45: Petria | Q45: 89240 | R45: =492172.8-Q45 -> 402932.8
B46: IA41 | C46: produse | D46: Aprov. | E46: Reactivi chimici | F46: 33696300-8 | G46: ELCEN | H46: 65000 | I46: productie | J46: PS | K46: 44759 | L46: 44819 | M46: online | N46: trim I-IV | O46: P24 Aprov | P46: Ene | Q46: 65000 | R46: 0
B47: IA42 | C47: produse | D47: Aprov. | E47: Reactivi chimici pt analizele de laborator | F47: 33696500-0 | G47: ELCEN | H47: 77000 | I47: productie | J47: PS | K47: 44759 | L47: 44819 | M47: online | N47: trim I-IV | O47: P24 Aprov | P47: Ene | Q47: 77000 | R47: 0
B48: IA43 | C48: produse | D48: Logistica | E48: Piese si accesorii pentru vehicule | F48: 34300000-0 | G48: ELCEN | H48: 170000 | I48: productie | J48: PS | K48: 44787 | L48: 44847 | M48: online | N48: trim I-IV | P48: Bolocan | Q48: 150000 | R48: 20000
B49: IA44 | C49: produse | D49: Aprov. | E49: Imbracaminte de protectie si de securitate (salopete antiacide, veste reflectorizante | F49: 35113200-1 | G49: ELCEN | H49: 27700 | I49: productie | J49: PS | K49: 44641 | L49: 44701 | M49: online | N49: trim II | O49: P18 Aprov | P49: Almaciu | Q49: 27700 | R49: 0
B50: IA45 | C50: produse | D50: Aprov. | E50: Costume de pompieri si prezante | F50: 35811100-3 | G50: ELCEN | H50: 42700 | I50: productie | J50: PS | K50: conform solicitari | L50: conform solicitari | M50: online | N50: trim III | O50: P18 Aprov | P50: Almaciu | Q50: 42700 | R50: 0
B51: IA46 | C51: produse | D51: Aprov. | E51: Aparate de masura indicatoare si inregistratoare; traductoare digitale cu Hart Protokol | F51: 38420000-5 | G51: ELCEN | H51: 868150 | I51: productie | J51: PS | K51: 44685 | L51: 44745 | M51: online | N51: trim III | P51: Leu | Q51: 437500 | R51: =868150-Q51 -> 430650
B52: IA47 | C52: produse | D52: Aprov. | E52: Debitmetre | F52: 38421110-6 | G52: ELCEN | H52: 65000 | I52: productie | J52: PS | K52: 44774 | L52: 44834 | M52: online | N52: trim III | O52: P26 Aprov | P52: Tudor | Q52: 65000 | R52: 0
B53: IA48 | C53: produse | D53: SCM-AC | E53: Sisteme masura debit | F53: 38421110-6 | G53: S | H53: 240000 | I53: productie | J53: PS | K53: 44592 | L53: 44652 | M53: online | N53: 2022 | O53: P26 Aprov | P53: Tudor | Q53: 240000 | R53: 0
B54: IA49 | C54: produse | D54: Aprov. | E54: Traductoare de presiune | F54: 38423000-6 | G54: ELCEN | H54: 285000 | I54: productie | J54: PS | K54: 44702 | L54: 44762 | M54: online | N54: trim II | P54: Neagu | Q54: 228000 | R54: 57000
B55: IA50 | C55: produse | D55: Aprov. | E55: Echipamente de masurare si control (inclusiv manometre) | F55: 38424000-3 | G55: ELCEN | H55: 150000 | I55: productie | J55: PS | K55: 44646 | L55: 44706 | M55: online | N55: trim II | P55: Neagu | Q55: 150000 | R55: 0
B56: IA51 | C56: produse | D56: SCM-AC | E56: Senzori detectie flacara inclusiv cablu | F56: 38431000-5 | G56: V | H56: 150000 | I56: productie | J56: PS | K56: 44575 | L56: 44635 | M56: online | N56: 44774 | O56: P2 Ment | P56: Tudor | Q56: 150000 | R56: 0
B57: IA52 | C57: produse | D57: SCM-AC | E57: Senzori detectie gaz turbina gaz | F57: 38431100-6 | G57: V | H57: 50000 | I57: productie | J57: PS | K57: 44575 | L57: 44635 | M57: online | N57: 44774 | O57: P2 Ment | P57: Tudor | Q57: 50000 | R57: 0
B58: IA53 | C58: produse | D58: SCM-AC | E58: Piese de schimb parte AMC, IT/DCS Ciclu Combinat; Piese schimb sisteme automatizare Centrala Ciclu combinat | F58: 38800000-3 | G58: V | H58: 950000 | I58: productie | J58: PS | K58: 2022 | L58: 2022 | M58: online | N58: 2022 | O58: P1 Ment | P58: Ivascu | Q58: 950000 | R58: 0
B59: IA54 | C59: produse | D59: SCM-AC | E59: Procurare piese schimb sisteme DCS | F59: 38810000-6 | G59: G,S | H59: 93000 | I59: productie | J59: PS | K59: 44591 | L59: 44651 | M59: online | N59: trim. 2, 3 | O59: P1 Ment | P59: Ivascu | Q59: 93000 | R59: 0
B60: IA55 | C60: produse | D60: SCM-AC | E60: Piese de schimb instalatii de masura indici chimici | F60: 39350000-0 | G60: ELCEN | H60: 291000 | I60: productie | J60: PS | K60: trim. 2, 3 | L60: trim. 2, 3 | M60: online | N60: trim 2, 3, 4 | P60: Ivascu | Q60: 291000 | R60: 0
B61: IA56 | C61: produse | D61: SCM-AC | E61: Piese de schimb parte mecanica Ciclu Combinat | F61: 42112400-1 | G61: V | H61: 1675000 | I61: productie | J61: PS | K61: 2022 | L61: 2022 | M61: online | N61: 2022 | P61: Marcas | Q61: 1675000 | R61: 0
B62: IA57 | C62: produse | D62: SCM-AC | E62: Piese pentru turbine cu abur | F62: 42113100-5 | G62: S,G | H62: 187000 | I62: productie | J62: LD | K62: 44564 | L62: 44651 | M62: online | N62: trim. 2, 3 | O62: P6 Ment | P62: Marcas | Q62: 187000 | R62: 0
B63: IA58 | C63: produse | D63: SCM-AC | E63: Electropompe | F63: 42122000-0 | G63: G,S,P | H63: 1555000 | I63: productie | J63: LD | K63: trim. 2, 3 | L63: trim. 2, 3 | M63: online | N63: trim 2, 3, 4 | O63: P7 Ment | P63: Marcas | Q63: 1555000 | R63: 0
B64: IA59 | C64: produse | D64: SCM-AC | E64: Pompe centrifugale | F64: 42122430-3 | G64: V | H64: 525000 | I64: productie | J64: LD | K64: 44592 | L64: 44682 | M64: online | N64: 44788 | O64: P7 Ment | P64: Marcas | Q64: 525000 | R64: 0
B65: IA60 | C65: produse | D65: SCM-AC | E65: Piese schimb pompe si electropompe | F65: 42124000-4 | G65: ELCEN | H65: 827907.07 | I65: productie | J65: PS | K65: trim. 2, 3 | L65: trim. 2, 3 | M65: online | N65: trim 2, 3, 4 | O65: P8 Ment | P65: Marcas | Q65: 827907.07 | R65: 0
B66: IA61 | C66: produse | D66: SCM-AC | E66: Piese de schimb dozatori var | F66: 42124222-6 | G66: V | H66: 143466.15 | I66: productie | J66: PS | K66: 44622 | L66: 44682 | M66: online | N66: 44805 | O66: P8 Ment | P66: Marcas | Q66: 143466.15 | R66: 0
B67: IA62 | C67: produse | D67: SCM-AC | E67: Piese de schimb pompe centrifuge | F67: 42124290-3 | G67: V | H67: 380626.78 | I67: productie | J67: PS | K67: 44622 | L67: 44682 | M67: online | N67: 44788 | O67: P8 Ment | P67: Marcas | Q67: 380626.78 | R67: 0
B68: IA63 | C68: produse | D68: SCM-AC | E68: Piese schimb compresoare | F68: 42124330-6 | G68: ELCEN | H68: 456000 | I68: productie | J68: PS | K68: trim. 2, 3 | L68: trim. 2, 3 | M68: online | N68: trim. 2, 3 | P68: Marcas | Q68: 456000 | R68: 0
B69: IA64 | C69: produse | D69: Aprov. | E69: Armaturi industriale, clapeti retinere, robineti AMC | F69: 42131000-6 | G69: ELCEN | H69: 3678506 | I69: productie | J69: LD | K69: 44564 | L69: 44625 | M69: online | N69: trim III | O69: P12 Aprov | P69: Almaciu | Q69: 2942804 | R69: 735702
B70: IA65 | C70: produse | D70: SCM-AC | E70: Robinete si vane | F70: 42131000-6 | G70: G | H70: 736000 | I70: productie | J70: LD | K70: trim 2 | L70: trim 2 | M70: online | N70: trim. 2, 3 | O70: P12 Aprov | P70: Almaciu | Q70: 736000 | R70: 0
B71: IA66 | C71: produse | D71: Aprov. | E71: Robineti trecere gaze, apa, hidrogen gazos | F71: 42131120-3 | G71: ELCEN | H71: 35000 | I71: productie | J71: LD | K71: conform solicitari | L71: conform solicitari | M71: online | N71: trim III | O71: P12 Aprov | P71: Almaciu | Q71: 35000 | R71: 0
B72: IA67 | C72: produse | D72: SCM-AC | E72: Kit de reparatii supape Centrala cu Ciclu Combinat | F72: 42131140-9 | G72: V | H72: 150000 | I72: productie | J72: PS | K72: 44592 | L72: 44652 | M72: online | N72: 44774 | P72: Marcas | Q72: 150000 | R72: 0
B73: IA68 | C73: produse | D73: SCM-AC | E73: Pozitie transferata - Procurare si inlocuire supape de siguranta cazan 4 | F73: 42131147-8 | G73: P | H73: 0 | I73: productie | J73: PS modificat la AD | K73: 44575 | L73: 44635 | M73: online | N73: trim. 2, 3 | P73: Marcas | Q73: 0 | R73: 0
B74: IA69 | C74: produse | D74: SCM-AC | E74: Piese schimb robinete sau vane | F74: 42132000-3 | G74: V,P | H74: 470000 | I74: productie | J74: PS | K74: trim. 2 | L74: trim. 2 | M74: online | N74: trim. 3, 4 | P74: Marcas | Q74: 450000 | R74: 20000
B75: IA70 | C75: produse | D75: SCM-AC | E75: PS turbina abur (port diafragme, diafragme, etansari,tija cu sistem etansare etc) pentru turbina SKODA | F75: 42142000-6 | G75: V | H75: 12500000 | I75: productie | J75: LD | K75: 44593 | L75: 44682 | M75: online | N75: 44774 | O75: P6 Ment | P75: Marcas | Q75: 12500000 | R75: 0
B76: IA71 | C76: produse | D76: SCM-AC | E76: Schimbătoare de căldură | F76: 42511100-2 | G76: S, V | H76: 470000 | I76: productie | J76: PS | K76: trim. 1, 2 | L76: trim. 1, 2 | M76: online | N76: trim. 2, 3 | P76: Bolocan | Q76: 470000 | R76: 0
B77: IA72 | C77: produse | D77: SCM-AC | E77: Elemente filtrante Ciclu Combinat | F77: 42514320-1 | G77: V | H77: 150000 | I77: productie | J77: PS | K77: 44592 | L77: 44652 | M77: online | N77: 44774 | O77: similiar IA81.45 | P77: Bolocan | Q77: 150000 | R77: 0
B78: IA73 | C78: produse | D78: Aprov. | E78: Duze filtre chimice | F78: 42955000-5 | G78: ELCEN | H78: 181100 | I78: productie | J78: PS | K78: conform solicitari | L78: conform solicitari | M78: online | N78: trim III | P78: Bolocan | Q78: 181100 | R78: 0
B79: IA74 | C79: produse | D79: SCM-AC | E79: Gospodaria de var si decantori suspensionali - Procurare siloz si dozator var praf nr. 2. | F79: 42993200-5 | G79: S | H79: 503758.23 | I79: productie | J79: PS | K79: 44636 | L79: 44696 | M79: online | N79: trim 2, 3, 4 | P79: Bolocan | Q79: 503758.23 | R79: 0
B80: IA75 | C80: produse | D80: Aprov. | E80: Vata minerala | F80: 44111520-2 | G80: ELCEN | H80: 227000 | I80: productie | J80: PS | K80: conform solicitari | L80: conform solicitari | M80: online | N80: trim II-III | P80: Bolocan | Q80: 115000 | R80: 112000
B81: IA76 | C81: produse | D81: Aprov. | E81: Conducte apa si abur, tevi de termoficare | F81: 44163140-3 | G81: ELCEN | H81: 7739967.3 | I81: productie | J81: LD | K81: 44653 | L81: 44713 | M81: online | N81: trim II-III | P81: Bolocan | Q81: 7739967.3 | R81: 0
B82: IA77 | C82: produse | D82: Aprov. | E82: Tabla neagra, zincata, striata, inox si cupru si aluminiu | F82: 44174000-0 | G82: ELCEN | H82: 246466 | I82: productie | J82: PS | K82: 44636 | L82: 44696 | M82: online | N82: trim II-III | P82: Ene | Q82: 246466 | R82: 0
B83: IA78 | C83: produse | D83: Aprov. | E83: Bare otel, cupru, alama si inox,pvc | F83: 44331000-9 | G83: ELCEN | H83: 149520 | I83: productie | J83: PS | K83: 44789 | L83: 44819 | M83: online | N83: trim II-III | P83: Neagu | Q83: 50000 | R83: =H83-Q83 -> 99520
B84: IA79 | C84: produse | D84: Aprov. | E84: Garnituri din placi de marsit | F84: 44430000-3 | G84: ELCEN | H84: 160930 | I84: productie | J84: PS | K84: 44815 | L84: 44875 | M84: online | N84: trim I-IV | P84: Ene | Q84: 50000 | R84: 110930
B85: IA80 | C85: produse | D85: Aprov. | E85: Rulmenti | F85: 44442000-0 | G85: ELCEN | H85: 563592 | I85: productie | J85: PS | K85: 44653 | L85: 44713 | M85: online | N85: trim II-III | O85: P13 Aprov | P85: Ene | Q85: 89366 | R85: =563592-Q85 -> 474226
B86: IA81 | C86: produse | E86: NENOMINALIZATE | H86: 383757.14 | I86: productie | Q86: 383757.14 | R86: 0
A87: 1 | B87: IA81 | C87: produse | D87: Aprov. | E87: Amortizor de szgomot pentru usi grele | F87: 34325100-2 | G87: G | H87: 308.17 | I87: productie | J87: AD | K87: 44565 | L87: 44591 | M87: offline | N87: trim.1 | P87: EO | Q87: 308.17 | R87: 0
A88: 2 | B88: IA81 | C88: produse | D88: Aprov. | E88: Monitor second Hand 22 inci wide 5ms | F88: 33195100-4 | G88: S | H88: 586.01 | I88: productie | J88: AD | K88: 44565 | L88: 44591 | M88: offline | N88: trim.1 | P88: EO | Q88: 586.01 | R88: 0
A89: 3 | B89: IA81 | C89: produse | D89: Inv | E89: Mocheta trafic intens | F89: 39531310-9 | G89: G | H89: 746.32 | I89: productie | J89: AD | K89: 44571 | L89: 44591 | M89: offline | N89: trim.1 | P89: EO | Q89: 746.32 | R89: 0
A90: 4 | B90: IA81 | C90: produse | D90: Aprov. | E90: Calti de canepa | F90: 19400000-0 | G90: G | H90: 19.08 | I90: productie | J90: AD | K90: 44572 | L90: 44591 | M90: offline | N90: trim.1 | P90: EO | Q90: 19.08 | R90: 0
A91: 5 | B91: IA81 | C91: produse | D91: Aprov. | E91: Faianta 30 mp; gresie 92 mp | F91: 44912200-8 | G91: P | H91: 3640.23 | I91: productie | J91: AD | K91: 44573 | L91: 44591 | M91: offline | N91: trim.1 | P91: EO | Q91: 3640.23 | R91: 0
A92: 6 | B92: IA81 | C92: produse | D92: BTIC | E92: Tester: telefon de testare | F92: 32550000-3 | G92: ELCEN | H92: 0 | I92: productie | J92: AD | M92: offline | P92: EO | Q92: 0 | R92: 0
A93: 7 | B93: IA81 | C93: produse | D93: BTIC | E93: Telefon IP | F93: 32550000-3 | G93: ELCEN | H93: 0 | I93: productie | J93: AD | M93: offline | P93: EO | Q93: 0 | R93: 0
A94: 8 | B94: IA81 | C94: produse | D94: BTIC | E94: Monitor Led 23 inci | F94: 32323100-4 | G94: ELCEN | H94: 0 | I94: productie | J94: AD | M94: offline | P94: EO | Q94: 0 | R94: 0
A95: 9 | B95: IA81 | C95: produse | D95: Aprov. | E95: Fuior de canepa | F95: 19400000-0 | G95: G | H95: 10.24 | I95: productie | J95: AD | K95: 44588 | L95: 44602 | M95: offline | N95: trim.1 | P95: EO | Q95: 10.24 | R95: 0
A96: 10 | B96: IA81 | C96: produse | D96: Aprov. | E96: Monitor second Hand 22 inci wide 5ms | F96: 32323100-4 | G96: S | H96: 586.01 | I96: productie | J96: AD | K96: 44592 | L96: 44620 | M96: offline | N96: trim.1 | P96: EO | Q96: 586.01 | R96: 0
A97: 11 | B97: IA81 | C97: produse | D97: BTIC | E97: Telefon IP | F97: 32550000-3 | G97: S | H97: 1533.6 | I97: productie | J97: AD | K97: 44600 | L97: 44620 | M97: offline | N97: trim.1 | P97: EO | Q97: 1533.6 | R97: 0
A98: 12 | B98: IA81 | C98: produse | D98: BTIC | E98: Centrala telefonica | F98: 32551200-2 | G98: S | H98: 1302.54 | I98: productie | J98: AD | K98: 44600 | L98: 44620 | M98: offline | N98: trim.1 | P98: EO | Q98: 1302.54 | R98: 0
A99: 13 | B99: IA81 | C99: produse | D99: Aprov. | E99: Izolatie teava 28x9 mm | F99: 39715300-0 | G99: UR | H99: 20.82 | I99: productie | J99: AD | K99: 44603 | L99: 44620 | M99: offline | N99: trim.1 | P99: EO | Q99: 20.82 | R99: 0
A100: 14 | B100: IA81 | C100: produse | D100: Aprov. | E100: Etichete magnetice pentru depozite sub forma de rola, alb, 25 mm, rola de 10 m | F100: 30199760-5 | G100: G | H100: 336 | I100: productie | J100: AD | K100: 44608 | L100: 44620 | M100: offline | N100: trim.1 | P100: EO | Q100: 336 | R100: 0
A101: 15 | B101: IA81 | C101: produse | D101: Aprov. | E101: Tesatura fibra de sticla | F101: 14830000-8 | G101: V | H101: 455 | I101: productie | J101: AD | K101: 44609 | L101: 44620 | M101: offline | N101: trim.1 | P101: EO | Q101: 455 | R101: 0
A102: 16 | B102: IA81 | C102: produse | D102: Aprov. | E102: Canepa etansare fitinguri filetate | F102: 19400000-0 | G102: G; UR | H102: 30.71 | I102: productie | J102: AD | K102: 44614 | L102: 44630 | M102: offline | N102: trim.1 | P102: EO | Q102: 30.71 | R102: 0
...

Sheet Anexa 2
A1: Anexa 2 | C1: STRATEGIA ANUALA DE ACHIZITII SECTORIALE
C2: ACHIZITII EXCEPTATE DE LA APLICAREA LEGISLATIEI DE ACHIZITII SECTORIALE
A4: Nr crt | C4: Obiect contract | D4: Cod CPV | E4: CET | F4: Valoare estimata (lei fara TVA) | G4: Sursa de finantare | H4: Procedura ce urmeaza a fi aplicata | I4: Data estimata pentru initiere procedura procedura | J4: Data estimata pentru finalizare procedura | K4: Perioada estimata pentru darea in consum | L4: Persoana responsabila pentru atribuirea contractului | M4: Observatii | N4: Valoare estimata a se cheltui in 2022 | O4: Valoare estimata a se cheltui in 2023
A5: A | C5: COMBUSTIBIL
A6: 1 | B6: COMBUSTIBIL | C6: Gaze naturale | D6: 09123000-7 | E6: S,P,G,V | F6: 1977600000 | G6: productie | H6: conform reglementari ANRE | J6: sept.2022 | K6: oct.2022-sept.2023 | L6: Serv Combustibil | M6: exceptie in conf. cu art.39 din legea 99/2016 | N6: 576000000 | O6: =F6-N6 -> 1401600000
A7: 2 | B7: COMBUSTIBIL | C7: Pacura | D7: 09135000-4 | E7: P | F7: 9299640 | G7: productie | H7: conform reglementari ANRE | J7: oct.2022 | K7: trim.1 si 4 2022; trim.1 2023 | L7: Serv Combustibil | M7: exceptie in conf. cu art.39 din legea 99/2016 | N7: 4500000 | O7: =9299640-N7 -> 4799640
A8: 3 | B8: COMBUSTIBIL | C8: Transport gaze naturale | D8: 60300000-1 | E8: S,P,G,V | F8: 62000000 | G8: productie | H8: conform reglementari ANRE | J8: sept.2022 | K8: oct.2022-sept.2023 | L8: Serv Combustibil | M8: exceptie in conf. cu art.39 din legea 99/2016 | N8: 20000000 | O8: =F8-N8 -> 42000000
A9: 4 | B9: COMBUSTIBIL | C9: Distributie gaze naturale | D9: 65210000-8 | E9: S,P,G,V | F9: 125000000 | G9: productie | H9: conform reglementari ANRE | J9: sept.2022 | K9: oct.2022-sept.2023 | L9: Serv Combustibil | M9: exceptie in conf. cu art.39 din legea 99/2016 | N9: 36200000 | O9: =F9-N9 -> 88800000
A10: 5 | B10: COMBUSTIBIL | C10: Alte servicii afrente combustibilului | D10: 65200000-5 | E10: S,P,G,V | F10: 198700 | G10: productie | H10: conform reglementari ANRE | J10: an 2022 | K10: an 2022 | L10: Serv Combustibil | M10: exceptie in conf. cu art.39 din legea 99/2016 | N10: 198700 | O10: 0
C11: TOTAL COMBUSTIBIL | F11: =SUM(F6:F10) -> 2174098340 | N11: =SUM(N6:N10) -> 636898700 | O11: =SUM(O6:O10) -> 1537199640
A14: B | C14: ENERGIE ELECTRICA
A15: 1 | B15: Sinteze | C15: Energie electrica | D15: 09310000-5 | E15: G, P | F15: 690000 | G15: productie | H15: conform reglementari ANRE | J15: 44926 | K15: trim 1,2,3,4 | L15: Serv Analize si Sinteze | M15: exceptie in conf. cu art.39 din legea 99/2016 | N15: 160000 | O15: =690000-N15 -> 530000
A16: 2 | B16: Sinteze | C16: Distributie energie electrica | D16: 65310000-9 | E16: S,P,G,V | F16: 300000 | G16: productie | H16: conform reglementari ANRE | J16: 45016 | K16: trim 1,2,3,4 | L16: Serv Analize si Sinteze | M16: exceptie in conf. cu art.39 din legea 99/2016 | N16: 233333 | O16: =300000-N16 -> 66667
C17: TOTAL ENERGIE ELECTRTICA | F17: =SUM(F15:F16) -> 990000 | N17: =SUM(N15:N16) -> 393333 | O17: =SUM(O15:O16) -> 596667
A20: C | C20: APA PENTRU PRODUCERE ENERGIE
A21: 1 | B21: Tehn. | C21: Utilizarea resurselor de apă de subteran pentru CTE Progresu şi CTE Bucureşti Vest şi primirea apelor uzate in resursele de apă de suprafaţă -Valea Maminei | D21: 41100000-0 | E21: V,P | F21: 12000 | G21: productie | H21: procedura ELCEN | J21: 44650 | K21: 45017 | L21: Ionescu C | M21: exceptie in conf. cu art.38 din legea 99/2016 | N21: 10000 | O21: 2000
A22: 2 | B22: Tehn. | C22: Furnizare servicii de alimentare cu apa potabila si industriala, si prestare servicii de canalizare pentru centralele Electrocentrale Bucuresti SA | D22: 65100000-4 | E22: S,P,G,V | F22: 59414895 | G22: productie | H22: procedura ELCEN | J22: 44925 | K22: 44927 | L22: Ionescu C | M22: exceptie in conf. cu art.38 din legea 99/2016 | N22: 11882979 | O22: =F22-N22 -> 47531916
C23: TOTAL APA PENTRU PRODUCERE ENERGIE | F23: =SUM(F21:F22) -> 59426895 | N23: =SUM(N21:N22) -> 11892979 | O23: =SUM(O21:O22) -> 47533916
A28: D | C28: ALTE SERVICII ATRIBUITE IN BAZA UNUI DREPT EXCLUSIV
A29: 1 | B29: Tehn. | C29: Monitorizare de audit a caracteristicilor fizico-chimice si microbiologice la apa din forajul de mare adancime pentru obtinerea autorizatiei sanitare de functionare din CTE Bucuresti Vest | D29: 90733700-1 | E29: V | F29: 25000 | G29: productie | H29: procedura ELCEN | J29: la solicitarea DSP | K29: la solicitarea DSP | L29: Ionescu C | M29: exceptie in conf. cu art.38 din legea 99/2016 | N29: 25000 | O29: 0
A30: 2 | B30: ISCIR | C30: Verificari tehnice in utilizare si autorizare ISCIR a instalatiilor sub presiune si de ridicat | D30: 71631000-0 | E30: ELCEN | F30: 178000 | G30: productie | H30: procedura ELCEN | J30: 44607 | K30: trim.1 | L30: Ivascu | M30: exceptie in conf. cu art.38 din legea 99/2016 | N30: 178000 | O30: 0
A31: 3 | B31: Logistica | C31: Servicii de colectare, ridicare, transport, depozitare gunoi menajer CTE Sud | D31: 90511200-4 | E31: S | F31: 48666 | G31: productie | H31: AD | I31: conform solicitare | J31: conform solicitare | K31: 365 zile | L31: Ene | M31: exceptie in conf. cu art.38 din legea 99/2016 | N31: 48666 | O31: 0
A32: 4 | B32: Combustibil | C32: Inmagazinare gaze naturale | D32: 76100000-4 | E32: ELCEN | F32: 4650360 | G32: productie | H32: procedura ELCEN | K32: nov.2022-martie 2023 | L32: EO | M32: exceptie in conf. cu art.38 din legea 99/2016 | N32: 4650360 | O32: 0
C33: TOTAL ALTE SERVICII | F33: =SUM(F29:F32) -> 4902026 | N33: =SUM(N29:N32) -> 4902026 | O33: =SUM(O29:O32) -> 0
A37: E | C37: ALTE EXCEPTII
A38: 1 | B38: Comercializare Energie si Reglementari | C38: Achizitie certificate verzi - producator cu obligatia de achizitie CV | D38: 90731000-0 | E38: ELCEN | F38: 48000 | G38: productie | H38: conform reglementari ANRE | J38: 44926 | K38: trim 1,2,3,4 | L38: Comercializare Energie si Reglementari | M38: exceptie in conf. cu art.37 al (1) lit "e" din legea 99/2016 Reglementari ANRE privind tranzactionarea in cadrul pietei centralizate de certificate verzi - piata administrata de OPCOM | N38: 48000 | O38: 0
A39: 2 | B39: Mediu | C39: Achizitie certificate emisii gaze cu efect de sera pt conformare 2021; Achizitie certificate emisii gaze cu efect de sera pt conformare 2022 | D39: 90731210-5 | E39: ELCEN | F39: 1614500000 | G39: productie | H39: platforma BRM | J39: 44651 | K39: trim I 2022 | L39: Kedei | M39: exceptie in conf. cu art.37 al (1) lit "e" din legea 99/2016 coroborat cu legea 24/2017 art.2 al.(1) pct.17 lit "k" | N39: 1614500000 | O39: 0
A40: 3 | B40: Juridic | C40: Servicii de asistenta si reprezentare juridica | D40: 79111000-5 | E40: ELCEN | F40: 2600000 | G40: productie | H40: procedura ELCEN | J40: ocazional | K40: ocazional | L40: Juridic | M40: exceptie in conf. cu art.37 din legea 99/2016 | N40: 2600000 | O40: 0
C42: TOTAL ALTE EXCEPTII | F42: =SUM(F38:F41) -> 1617148000 | N42: =SUM(N38:N40) -> 1617148000 | O42: =SUM(O38:O40) -> 0
C44: TOTAL ANEXA 2 | F44: =F11+F17+F23+F33+F42 -> 3856565261
C46: SEF SERV. ACHIZITII | D46: Roxana Kedei
C48: Responsabil Coordonare Proceduri de Achizitii | D48: Anca Ordean
C50: Elaborat | D50: Cristina Peride

Sheet AC
K1: ANEXA 3
C2: PROGRAM ACHIZITII
C3: MONITORIZARE ACORDURI CADRU
A5: Nr | B5: tip contract | C5: Obiectul acordului cadru | D5: Cod CPV | E5: EO derulatoare | F5: curs | G5: Responsabil achizitie | H5: Valoare estimata an curent | I5: Nr acord cadru | J5: Poz PAA/ an atribuire | K5: FIRMA | L5: An contract subsecvent | M5: Nr contract subsecvent | N5: Valoare (lei fara TVA) | O5: Anunt atribuire | P5: Doc constatator
A6: 1 | B6: servicii | C6: LN3 Prelevari esantioane teava din circuite de conducte IP/IT in vederea efectuarii expertizei starii metalului - CTE Bucuresti Sud | D6: 50531100-7 | E6: Mentenanta | G6: Marcas | I6: AC 475/11.10.2019 | J6: IB74/2019 | K6: TURBOENERGY | L6: 2019 | N6: 425000 | O6: CAN1022999/11.10.2019
M7: 1 (271)/28.05.2020 | N7: 269558.15 | O7: CAN1022999/28.05.2020
N12: =N6-N7 -> 155441.85
A13: 2 | B13: lucrari | C13: LN3 Lucrari pregatitoare in vederea expertizei starii metalului la conducte si recipienti sub presiune si lucrari de reparatii izolatii si zidarie la cazanele de abur si CAF-urile din CTE Sud | D13: 45321000-3 | E13: Mentenanta | G13: Marcas | H13: 2467759.5 | I13: AC 393/13.07.2021 | J13: IC6 | K13: ROMTAM | L13: 2021 | N13: 575000 | O13: SCNA1055035/14.07.2021
M14: ctr.1 | N14: 207305 | O14: SCNA1055035/10.08.2021 | P14: LOT 2 | Q14: AD1052131/22.11.2021
M15: ctr.2/10.11.2021 | N15: 279820 | O15: SCNA1055035/10.11.2021
N19: =N13-N14-N15 -> 87875
I20: AC 394/13.07.2021 | J20: IC6 | K20: HEXAQ | L20: 2021 | N20: 780000 | O20: SCNA1055035/14.07.2021
M21: ctr.1 | N21: 314000 | O21: SCNA1055035/10.09.2021 | P21: LOT 1
N26: =N20-N21 -> 466000
I27: AC 422/30.07.2021 | J27: IC6 | K27: VIOSIL | L27: 2021 | N27: 439253 | O27: SCNA1055035/30.07.2021 | P27: LOT 3
M28: ctr.1 | N28: 89987 | O28: SCNA1055035/08.10.2021
N33: =N27-N28 -> 349266
A34: 3 | B34: servicii | C34: LN3 Prelevari esantioane teava din circuitele de conducte IP/IT aferente cazanelor de abur si din sistemul de presiune al CAF urilor in vederea efectuarii expertizei starii metalului | D34: 50531100-7 | E34: Mentenanta | G34: Petria | I34: AC 9577 (467)/18.08.02021 | J34: IB79/2021 | K34: SAEM | L34: 2021 | N34: 180000 | O34: CAN1061226/18.08.2021
L35: 2022 | M35: 1 (130)/24.03.2022 | N35: 48089.09 | O35: CAN1061226/25.03.2022
N40: =N34-N35 -> 131910.91

Sheet Centralizator
C2: S.A.S 2022 REASEZAT
C3: CENTRALIZATOR
B5: Cap.1. | C5: PROGRAM ACHIZITII | D5: (lei fara TVA) | F5: Valoare estimata a se cheltui in 2022 | G5: Valoare estimata a se cheltui in 2023 | H5: Valoare estimata a se cheltui in 2024-2025
C6: FONDURI DE PRODUCTIE | D6: =D8+D9+D10 -> 1.775183e+08 | F6: =F8+F9+F10 -> 1.1908786e+08 | G6: =G8+G9+G10 -> 31089408 | H6: =H8+H9+H10 -> 27341026
C7: din care:
C8: PRODUSE | D8: ='Anexa 1'!H136 -> 63346240 | F8: ='Anexa 1'!Q136 -> 50905836 | G8: ='Anexa 1'!R136 -> 12440404 | H8: 0
C9: SERVICII | D9: ='Anexa 1'!H232 -> 92698785 | F9: ='Anexa 1'!Q232 -> 51966359 | G9: ='Anexa 1'!R232 -> 13391400 | H9: ='Anexa 1'!S232 -> 27341026
C10: LUCRARI | D10: ='Anexa 1'!H248 -> 21473272 | F10: ='Anexa 1'!Q248 -> 16215668 | G10: ='Anexa 1'!R248 -> 5257604.3 | H10: 0
C12: FONDURI DE INVESTITII | D12: =D14+D15+D16 -> 2.7548423e+08 | F12: =F14+F15+F16 -> 4839004.9 | G12: =G14+G15+G16 -> 24996103 | H12: =H14+H15+H16 -> 245649126
C13: din care:
C14: PRODUSE | D14: ='Anexa 1'!H264 -> 13412608 | F14: ='Anexa 1'!Q264 -> 3416504.9 | G14: ='Anexa 1'!R264 -> 9996103 | H14: 0
C15: SERVICII | D15: ='Anexa 1'!H272 -> 922500 | F15: ='Anexa 1'!Q272 -> 922500 | G15: ='Anexa 1'!R272 -> 0 | H15: 0
C16: LUCRARI | D16: ='Anexa 1'!H279 -> 261149126 | F16: ='Anexa 1'!Q279 -> 500000 | G16: ='Anexa 1'!R279 -> 15000000 | H16: ='Anexa 1'!S279 -> 245649126
B18: Cap.2 | C18: ACHIZITII DIRECTE
C19: FONDURI DE PRODUCTIE | D19: =D21+D22+D23 -> 8572826.6 | F19: =F21+F22+F23 -> 8023361.6 | G19: =G21+G22+G23 -> 549465 | H19: =H21+H22+H23 -> 0
C20: din care:
C21: PRODUSE | D21: ='Anexa 1'!H503 -> 5080484.5 | F21: ='Anexa 1'!Q503 -> 4781143.5 | G21: ='Anexa 1'!R503 -> 299341 | H21: 0
C22: SERVICII | D22: ='Anexa 1'!H578 -> 2457342.1 | F22: ='Anexa 1'!Q578 -> 2207218.1 | G22: ='Anexa 1'!R578 -> 250124 | H22: 0
C23: LUCRARI | D23: ='Anexa 1'!H588 -> 1035000 | F23: ='Anexa 1'!Q588 -> 1035000 | G23: ='Anexa 1'!R588 -> 0 | H23: 0
C25: FONDURI DE INVESTITII | D25: =D27+D28+D29 -> 359500 | F25: =F27+F28+F29 -> 359500 | G25: 0 | H25: 0
C26: din care:
C27: PRODUSE | D27: ='Anexa 1'!H607 -> 359500 | F27: ='Anexa 1'!Q607 -> 359500 | G27: ='Anexa 1'!R607 -> 0 | H27: 0
C28: SERVICII | D28: 0 | F28: 0 | G28: 0 | H28: 0
C29: LUCRARI | D29: 0 | F29: 0 | G29: 0 | H29: 0
C31: TOTAL PROGRAM ACHIZITII | D31: =D6+D12 -> 4.5300253e+08 | F31: =F6+F12 -> 1.2392687e+08 | G31: =G6+G12 -> 56085511 | H31: =H6+H12 -> 272990152
C32: TOTAL ACHIZITII DIRECTE | D32: =D19+D25 -> 8932326.6 | F32: =F19+F25 -> 8382861.6 | G32: =G19+G25 -> 549465 | H32: 0
C33: TOTAL | D33: =D31+D32 -> 4.6193486e+08 | F33: =F31+F32 -> 1.3230973e+08 | G33: =SUM(G31:G32) -> 56634976 | H33: =SUM(H31:H32) -> 272990152
C34: din care :
C35: din fonduri de PRODUCTIE | D35: =D6+D19 -> 1.8609112e+08 | F35: =F6+F19 -> 1.2711123e+08 | G35: =G6+G19 -> 31638873 | H35: =H6+H19 -> 27341026
C36: din fonduri de INVESTITII | D36: =D12+D25 -> 2.7584373e+08 | F36: =F12+F25 -> 5198504.9 | G36: =G12+G25 -> 24996103 | H36: =H12+H25 -> 245649126
C38: TOTAL ANEXA 1 | D38: =D33 -> 4.6193486e+08 | F38: =F33 -> 1.3230973e+08 | G38: =G33 -> 56634976 | H38: =H33 -> 272990152
C40: ANEXA 2
C41: Combustibil | D41: ='Anexa 2'!F11 -> 2174098340 | F41: ='Anexa 2'!N11 -> 636898700 | G41: ='Anexa 2'!O11 -> 1537199640 | H41: 0
C42: Energie electrica | D42: ='Anexa 2'!F17 -> 990000 | F42: ='Anexa 2'!N17 -> 393333 | G42: ='Anexa 2'!O17 -> 596667 | H42: 0
C43: Apa pt producere energie electrica | D43: ='Anexa 2'!F23 -> 59426895 | F43: ='Anexa 2'!N23 -> 11892979 | G43: ='Anexa 2'!O23 -> 47533916 | H43: 0
C44: Alte servicii atribuite in baza unui drept exclusiv | D44: ='Anexa 2'!F33 -> 4902026 | F44: ='Anexa 2'!N33 -> 4902026 | G44: ='Anexa 2'!O33 -> 0 | H44: 0
C45: Alte exceptii (certificare verzi, EUA) | D45: ='Anexa 2'!F42 -> 1617148000 | F45: ='Anexa 2'!N42 -> 1617148000 | G45: ='Anexa 2'!O42 -> 0 | H45: 0
H46: 0
C47: TOTAL ANEXA 2 | D47: =SUM(D41:D46) -> 3856565261 | F47: =SUM(F41:F46) -> 2271235038 | G47: =SUM(G41:G46) -> 1585330223 | H47: 0
C50: TOTAL GENERAL | D50: =D47+D38 -> 4.3185001e+09 | F50: =F38+F47 -> 2.4035448e+09 | G50: =G38+G47 -> 1.6419652e+09 | H50: =H38 -> 272990152
C53: SEF SERV. ACHIZITII | D53: Roxana Kedei
C55: Responsabil Coordonare Proceduri de Achizitii | D55: Anca Ordean
C57: Elaborat | D57: Cristina Peride
