Workbook

Sheet ANEXA 1
B1: Nr. crt. | C1: Tip | D1: Serviciul | E1: Obiectul contractului | F1: Cod CPV | G1: CET | H1: Valoarea estimata (lei fara TVA) | I1: Sursa de finantare | J1: Procedura ce urmeaza a fi aplicata | K1: Data estimata pentru initiere procedura procedura | L1: Data estimata pentru finalizare procedura | M1: Modalitatea de derulare procedura de achizitie (on / off line) | N1: Perioada estimata pentru darea in consum (trim, an) | O1: Similare | P1: Persoana responsabila cu aplicarea procedurii de atribuire | Q1: Valoare estimata a se cheltui in 2023 | R1: Valoare estimata a se cheltui in 2024 | S1: Valoare estimata a se cheltui in 2025, 2026
B3: I | E3: FONDURI DE PRODUCTIE
B5: IA | E5: ACHIZITII DE PRODUSE
B6: IA1 | C6: produse | D6: Logistica | E6: Benzina fara plumb | F6: 09132100-4 | G6: ELCEN | H6: 88000 | I6: productie | J6: PS | K6: 45016 | L6: 45076 | M6: online | N6: trim II | O6: P1 Transp | P6: Ivascu | Q6: 48000 | R6: 40000 | S6: 0
B7: IA2 | C7: produse | D7: Logistica | E7: Motorina | F7: 09134220-5 | G7: ELCEN | H7: 548000 | I7: productie | J7: PS | K7: 45016 | L7: 45076 | M7: online | N7: trim II | O7: P1 Transp | P7: Ivascu | Q7: 350000 | R7: 198000 | S7: 0
B8: IA3 | C8: produse | D8: Logistica | E8: Ulei motor auto ( pt.completare ) | F8: 09211100-2 | G8: ELCEN | H8: 1240 | I8: productie | J8: PS | K8: conform solicitari | L8: conform solicitari | M8: online | N8: trim I - IV | O8: P1 Aprov | P8: Almaciu | Q8: 930 | R8: 310 | S8: 0
B9: IA4 | C9: produse | D9: Aprov | E9: Uleiuri pentru motoare si ulei Diesel | F9: 09211100-2 | G9: ELCEN | H9: 10000 | I9: productie | J9: PS | K9: 45017 | L9: 45077 | M9: online | N9: trim II-III | O9: P1 Aprov | P9: Almaciu | Q9: 10000 | R9: 0 | S9: 0
B10: IA5 | C10: produse | D10: Aprov | E10: Uleiuri pentru compresoare | F10: 09211200-3 | G10: ELCEN | H10: 89600 | I10: productie | J10: PS | K10: 45078 | L10: 45138 | M10: online | N10: trim III-IV | O10: P1 Aprov | P10: Almaciu | Q10: 89600 | R10: 0 | S10: 0
B11: IA6 | C11: produse | D11: Aprov | E11: Uleiuri pentru turbine | F11: 09211300-4 | G11: ELCEN | H11: 250000 | I11: productie | J11: PS | K11: 44956 | L11: 45015 | M11: online | N11: trim II-III | O11: P1 Aprov | P11: Almaciu | Q11: 250000 | R11: 0 | S11: 0
B12: IA7 | C12: produse | D12: Aprov | E12: Uleiuri pentru angrenaje, transmisii si reductoare | F12: 09211400-5 | G12: ELCEN | H12: 32000 | I12: productie | J12: PS | K12: 45017 | L12: 45077 | M12: online | N12: trim II-III | O12: P1 Aprov | P12: Almaciu | Q12: 32000 | R12: 0 | S12: 0
B13: IA8 | C13: produse | D13: Aprov | E13: Uleiuri si lichide pentru sisteme hidraulice | F13: 09211600-7 | G13: ELCEN | H13: 45000 | I13: productie | J13: PS | K13: conform solicitari | L13: conform solicitari | M13: online | N13: trim I-IV | O13: P1 Aprov | P13: Almaciu | Q13: 45000 | R13: 0 | S13: 0
B14: IA9 | C14: produse | D14: Aprov | E14: Uleiuri electroizolante pentru transformatoare si MOP-uri | F14: 09211640-9 | G14: ELCEN | H14: 62000 | I14: productie | J14: PS | K14: 44956 | L14: 45015 | M14: online | N14: trim II-III | O14: P1 Aprov | P14: Almaciu | Q14: 62000 | R14: 0 | S14: 0
B15: IA10 | C15: produse | D15: Aprov | E15: Sare bulgari | F15: 14410000-8 | G15: ELCEN | H15: 4865250 | I15: productie | J15: LD | K15: 45165 | L15: 45255 | M15: online | N15: trim IV | P15: Almaciu | Q15: 400000 | R15: 4465250 | S15: 0
B16: IA11 | C16: produse | D16: Aprov | E16: Lapte praf instant integral 26% grasime | F16: 15511700-0 | G16: ELCEN | H16: 298700 | I16: productie | J16: PS | K16: 44931 | L16: 44985 | M16: online | N16: trim I-IV | P16: Ionita | Q16: 228700 | R16: 70000 | S16: 0
B17: IA12 | C17: produse | D17: Aprov | E17: Salopete si halate de lucru | F17: 18114000-1 | G17: ELCEN | H17: 573600 | I17: productie | J17: PS | K17: 44986 | L17: 45046 | M17: online | N17: trim II-III | O17: P3 Aprov | P17: Almaciu | Q17: 358295 | R17: 215305 | S17: 0
B18: IA13 | C18: produse | D18: Aprov | E18: Imbracaminte speciala de lucru (Costum ignifugat, antipacura, etc) | F18: 18130000-9 | G18: ELCEN | H18: 5280 | I18: productie | J18: PS | K18: 44971 | L18: 45031 | M18: online | N18: trim II | O18: P3 Aprov | P18: Almaciu | Q18: 5280 | R18: 0 | S18: 0
B19: IA14 | C19: produse | D19: Aprov | E19: Accesorii pentru imbracaminte de lucru si echipamente de protectie (sorturi, jambiere, manusi, viziere) | F19: 18140000-2 | G19: ELCEN | H19: 184359 | I19: productie | J19: PS | K19: conform solicitari | L19: conform solicitari | M19: online | N19: trim I-IV | O19: P3 Aprov | P19: Almaciu | Q19: 184359 | R19: 0 | S19: 0
B20: IA15 | C20: produse | D20: Aprov | E20: Imbracaminte de protectie impotiva intemperiilor (Haine vatuite, sube, imbracaminte cu gluga, pelerine impermeabile) | F20: 18220000-7 | G20: ELCEN | H20: 179402 | I20: productie | J20: PS | K20: conform solicitari | L20: conform solicitari | M20: online | N20: trim I-IV | O20: P3 Aprov | P20: Almaciu | Q20: 179402 | R20: 0 | S20: 0
B21: IA16 | C21: produse | D21: Aprov | E21: Articole de protectie pentru cap (Capisoane, caschete antisoc, casti de siguranta, antifoane, etc) | F21: 18444000-3 | G21: ELCEN | H21: 96610 | I21: productie | J21: PS | K21: conform solicitari | L21: conform solicitari | M21: online | N21: trim I-IV | O21: P3 Aprov | P21: Almaciu | Q21: 96610 | R21: 0 | S21: 0
B22: IA17 | C22: produse | D22: Aprov | E22: Incaltaminte de uz profesional (Cizme electroizolante IT + JT, Cizme antiacide, Cizme sold) | F22: 18810000-0 | G22: ELCEN | H22: 85660 | I22: productie | J22: PS | K22: 44931 | L22: 45016 | M22: online | N22: trim II | O22: P4 Aprov | P22: Ganciu | Q22: 85660 | R22: 0 | S22: 0
B23: IA18 | C23: produse | D23: Aprov | E23: Incaltaminte de protectie (Bocanci fara bombeu cu caramb inalt si pantofi, Bocanci cu bombeu metalic, Cizme din piele cu brant metalic) | F23: 18830000-6 | G23: ELCEN | H23: 268000 | I23: productie | J23: PS | K23: 45010 | L23: 45071 | M23: online | N23: trim IV | O23: P4 Aprov | P23: Ganciu | Q23: 200000 | R23: 68000 | S23: 0
B24: IA19 | C24: produse | D24: Aprov | E24: Gaze industriale pentru etalonari | F24: 24110000-8 | G24: ELCEN | H24: 104340 | I24: productie | J24: PS | K24: conform solicitari | L24: conform solicitari | M24: online | N24: trim I-IV | O24: P5 Aprov | P24: Almaciu | Q24: 104340 | R24: 0 | S24: 0
B25: IA20 | C25: produse | D25: Aprov | E25: Argon | F25: 24111100-6 | G25: ELCEN | H25: 42240 | I25: productie | J25: PS | K25: conform solicitari | L25: conform solicitari | M25: online | N25: trim I-IV | O25: P5 Aprov | P25: Almaciu | Q25: 42240 | R25: 0 | S25: 0
B26: IA21 | C26: produse | D26: Aprov | E26: Hidrogen | F26: 24111600-1 | G26: ELCEN | H26: 1310400 | I26: productie | J26: PS | K26: 45016 | L26: 45076 | M26: online | N26: trim II-IV | O26: P5 Aprov | P26: Almaciu | Q26: 1048320 | R26: 262080 | S26: 0
B27: IA22 | C27: produse | D27: Aprov | E27: Azot tehnic | F27: 24111700-2 | G27: ELCEN | H27: 17005 | I27: productie | J27: PS | K27: 45139 | L27: 45199 | M27: online | N27: trim IV | O27: P5 Aprov | P27: Almaciu | Q27: 5005 | R27: 12000 | S27: 0
B28: IA23 | C28: produse | D28: Aprov | E28: Oxigen | F28: 24111900-4 | G28: ELCEN | H28: 42640 | I28: productie | J28: PS | K28: 45012 | L28: 45072 | M28: online | N28: trim II-IV | O28: P5 Aprov | P28: Almaciu | Q28: 28440 | R28: 14200 | S28: 0
B29: IA24 | C29: produse | D29: Aprov | E29: Dioxid de carbon | F29: 24112100-3 | G29: ELCEN | H29: 44030 | I29: productie | J29: PS | K29: 45124 | L29: 45184 | M29: online | N29: trim IV | O29: P5 Aprov | P29: Almaciu | Q29: 25160 | R29: 18870 | S29: 0
B30: IA25 | C30: produse | D30: Aprov | E30: Var hidratat | F30: 24213000-0 | G30: ELCEN | H30: 4500000 | I30: productie | J30: LD | K30: 44931 | L30: 44972 | M30: online | N30: trim I-IV | P30: Marcas | Q30: 4500000 | R30: 0 | S30: 0
B31: IA26 | C31: produse | D31: Aprov | E31: Hidrat de hidrazina | F31: 24311130-7 | G31: ELCEN | H31: 423600 | I31: productie | J31: PS | K31: 44999 | L31: 45059 | M31: online | N31: trim II-IV | O31: P6 Aprov | P31: Marcas | Q31: 323600 | R31: 100000 | S31: 0
B32: IA27 | C32: produse | D32: Aprov | E32: Carbohidrazida | F32: 24311130-7 | G32: ELCEN | H32: 6000 | I32: productie | J32: PS | K32: conform solicitari | L32: conform solicitari | M32: online | N32: trim I-IV | O32: P6 Aprov | P32: Marcas | Q32: 6000 | R32: 0 | S32: 0
B33: IA28 | C33: produse | D33: Aprov | E33: Acid clorhidric de sinteza 32% si hidroxid de sodiu | F33: 24311400-1 | G33: ELCEN | H33: 17430000 | I33: productie | J33: LD | K33: 45168 | L33: 45260 | M33: online | N33: trim I-IV | P33: Marcas | Q33: 15430000 | R33: 2000000 | S33: 0
B34: IA29 | C34: produse | D34: Aprov | E34: Sulfat de fier | F34: 24313000-1 | G34: ELCEN | H34: 2429000 | I34: productie | J34: LD | K34: 45032 | L34: 45122 | M34: online | N34: trim III-IV | P34: Marcas | Q34: 1429000 | R34: 1000000 | S34: 0
B35: IA30 | C35: produse | D35: Aprov | E35: Rasini schimbatoare de ioni | F35: 24962000-5 | G35: ELCEN | H35: 1963000 | I35: productie | J35: PS | K35: 45017 | L35: 45077 | M35: online | N35: trim II-III | P35: Almaciu | Q35: 1963000 | R35: 0 | S35: 0
B36: IA31 | C36: produse | D36: Mentenanta | E36: Piese pentru motoare, generatoare şi transformatoare electrice | F36: 31160000-5 | G36: V | H36: 1730000 | I36: productie | J36: LD modificat la PS | K36: 44941 | L36: 45031 | M36: online | N36: 01.08.2023 | O36: P1 Ment | P36: Petria | Q36: 1730000 | R36: 0 | S36: 0
B37: IA32 | C37: produse | D37: Mentenanta | E37: Procurare si înlocuire borne generator nr.3 | F37: 31161100-3 | G37: P | H37: 100000 | I37: productie | J37: LD modificat la PS | K37: 44931 | L37: 44985 | M37: online | N37: trim.2,3,4 | O37: P1 Ment | P37: Petria | Q37: 100000 | R37: 0 | S37: 0
B38: IA33 | C38: produse | D38: Mentenanta | E38: Piese schimb pentru cazane de abur | F38: 31161700-9 | G38: P, G, S | H38: 1839000 | I38: productie | J38: PS | K38: trim. 2, 3 | L38: trim. 2, 3 | M38: online | N38: trim 2, 3, 4 | O38: similar IA78.9 | P38: Marcas | Q38: 1839000 | R38: 0 | S38: 0
B39: IA34 | C39: produse | D39: Mentenanta | E39: Aparate de distribuţie şi control ale energiei electrice | F39: 31200000-8 | G39: S | H39: 132000 | I39: productie | J39: PS | K39: 44957 | L39: 45017 | M39: online | N39: trim. 2, 3 | O39: P2 Ment | P39: Petria | Q39: 132000 | R39: 0 | S39: 0
B40: IA35 | C40: produse | D40: Aprov | E40: Intrerupatoare automate | F40: 31214100-0 | G40: ELCEN | H40: 45000 | I40: productie | J40: PS | K40: 44986 | L40: 45046 | M40: online | N40: trim II-III | O40: P2 Ment | P40: Petria | Q40: 45000 | R40: 0 | S40: 0
B41: IA36 | C41: produse | D41: Mentenanta | E41: Întrerupătoare | F41: 31214100-0 | G41: G | H41: 220000 | I41: productie | J41: PS | K41: trim.1 | L41: trim. 2 | M41: online | N41: trim 2, 3 | O41: P2 Ment | P41: Petria | Q41: 220000 | R41: 0 | S41: 0
B42: IA37 | C42: produse | D42: Aprov | E42: Relee electrice | F42: 31221000-1 | G42: ELCEN | H42: 55000 | I42: productie | J42: PS | K42: 44999 | L42: 45059 | M42: online | N42: trim II-III | O42: P2 Ment | P42: Petria | Q42: 55000 | R42: 0 | S42: 0
B43: IA38 | C43: produse | D43: Mentenanta | E43: Relee de protectie numerica | F43: 31221000-1 | G43: P | H43: 50000 | I43: productie | J43: PS | K43: 45047 | L43: 45107 | M43: online | N43: trim 3, 4 | O43: P2 Ment | P43: Petria | Q43: 50000 | R43: 0 | S43: 0
B44: IA39 | C44: produse | D44: Mentenanta | E44: Piese schimb ELECTRIC/PRAM | F44: 31224000-2 | G44: S | H44: 66000 | I44: productie | J44: PS | K44: 44957 | L44: 45017 | M44: online | N44: trim. 2, 3 | O44: P2 Ment | P44: Petria | Q44: 66000 | R44: 0 | S44: 0
B45: IA40 | C45: produse | D45: Mentenanta | E45: Piese de schimb aparate distributie energie electrica | F45: 31230000-7 | G45: V, S, G | H45: 131000 | I45: productie | J45: PS | K45: 44957 | L45: 45017 | M45: online | N45: trim. 2, 3 | O45: P2 Ment | P45: Petria | Q45: 131000 | R45: 0 | S45: 0
B46: IA41 | C46: produse | D46: Aprov | E46: Aparatura de iluminat si lampi electrice | F46: 31500000-1 | G46: ELCEN | H46: 575000 | I46: productie | J46: PS | K46: conform solicitari | L46: conform solicitari | M46: online | N46: trim I-IV | O46: P26 Aprov | P46: Petria | Q46: 400000 | R46: 175000 | S46: 0
B47: IA42 | C47: produse | D47: Mentenanta | E47: Piese de schimb pentru instalatia de iluminat K1 | F47: 31500000-1 | G47: G | H47: 0 | I47: productie | J47: PS | K47: 44986 | L47: 45046 | M47: online | N47: trim.2,3 | O47: P26 Aprov | P47: Ionita | Q47: 0 | R47: 0 | S47: 0
B48: IA43 | C48: produse | D48: Aprov | E48: Ochelari de protectie | F48: 33735100-2 | G48: ELCEN | H48: 26625 | I48: productie | J48: PS | K48: 44971 | L48: 45031 | M48: online | N48: trim II | O48: P3 Aprov | P48: Almaciu | Q48: 26625 | R48: 0 | S48: 0
B49: IA44 | C49: produse | D49: Aprov | E49: Echipament de lupta impotriva incendiilor, de salvare si de siguranta | F49: 35110000-8 | G49: ELCEN | H49: 56230 | I49: productie | J49: PS | K49: conform solicitari | L49: conform solicitari | M49: online | N49: trim I-IV | O49: P16 Aprov | P49: Itu | Q49: 56230 | R49: 0 | S49: 0
B50: IA45 | C50: produse | D50: Aprov | E50: Extinctoare (carosabile si portabile) | F50: 35111300-8 | G50: ELCEN | H50: 194000 | I50: productie | J50: PS | K50: 45040 | L50: 45101 | M50: online | N50: trim II-III | O50: P16 Aprov | P50: Itu | Q50: 194000 | R50: 0 | S50: 0
B51: IA46 | C51: produse | D51: Aprov | E51: Unelte si accesorii manuale pentru stingerea incendiilor | F51: 35111510-3 | G51: ELCEN | H51: 20000 | I51: productie | J51: PS | K51: 45000 | L51: 45061 | M51: online | N51: trim II-III | O51: P16 Aprov | P51: Itu | Q51: 20000 | R51: 0 | S51: 0
B52: IA47 | C52: produse | D52: Aprov | E52: Imbracaminte de protectie si de securitate (salopete antiacide) | F52: 35113200-1 | G52: ELCEN | H52: 39500 | I52: productie | J52: PS | K52: 45030 | L52: 45090 | M52: online | N52: trim III-IV | O52: P3 Aprov | P52: Almaciu | Q52: 39500 | R52: 0 | S52: 0
B53: IA48 | C53: produse | D53: Logistica | E53: Veste reflectorizante | F53: 35113440-5 | G53: ELCEN | H53: 580 | I53: productie | J53: PS | K53: conform solicitari | L53: conform solicitari | M53: online | O53: P3 Aprov | P53: Almaciu | Q53: 400 | R53: 180 | S53: 0
B54: IA49 | C54: produse | D54: Aprov | E54: Costume de pompieri si prezante | F54: 35811100-3 | G54: ELCEN | H54: 21500 | I54: productie | J54: PS | K54: 44970 | L54: 45030 | M54: online | N54: trim III | O54: P3 Aprov | P54: Almaciu | Q54: 21500 | R54: 0 | S54: 0
B55: IA50 | C55: produse | D55: Aprov | E55: Aparate de masura indicatoare si inregistratoare; traductoare digitale cu Hart Protokol | F55: 38420000-5 | G55: ELCEN | H55: 300000 | I55: productie | J55: PS | K55: conform solicitari | L55: conform solicitari | M55: online | N55: trim I-IV | P55: Petria | Q55: 300000 | R55: 0 | S55: 0
B56: IA51 | C56: produse | D56: Aprov | E56: Traductoare de presiune | F56: 38423000- 6 | G56: ELCEN | H56: 300000 | I56: productie | J56: PS | K56: 45030 | L56: 45090 | M56: online | N56: trim III | P56: Petria | Q56: 300000 | R56: 0 | S56: 0
B57: IA52 | C57: produse | D57: Aprov | E57: Echipamente de masurare si control (inclusiv manometre) | F57: 38424000-3 | G57: ELCEN | H57: 160000 | I57: productie | J57: PS | K57: 45006 | L57: 45066 | M57: online | N57: trim III | O57: P1 INV | P57: Itu | Q57: 160000 | R57: 0 | S57: 0
B58: IA53 | C58: produse | D58: Mentenanta | E58: Procurare piese schimb sisteme DCS | F58: 38810000-6 | G58: G,S,V | H58: 695000 | I58: productie | J58: PS | K58: 45047 | L58: 45107 | M58: online | N58: trim. 2, 3 | P58: Ivascu | Q58: 695000 | R58: 0 | S58: 0
B59: IA54 | C59: produse | D59: Mentenanta | E59: Piese de schimb instalatii de masura indici chimici | F59: 39350000-0 | G59: ELCEN | H59: 488000 | I59: productie | J59: PS | K59: 45047 | L59: 45107 | M59: online | N59: trim 2, 3, 4 | P59: Ene | Q59: 488000 | R59: 0 | S59: 0
B60: IA55 | C60: produse | D60: Mentenanta | E60: Piese de schimb parte mecanica Ciclu Combinat | F60: 42112400-1 | G60: V | H60: 1500000 | I60: productie | J60: PS | K60: 45048 | L60: 45108 | M60: online | N60: 31.08.2023 | P60: Bolocan | Q60: 1500000 | R60: 0 | S60: 0
B61: IA56 | C61: produse | D61: Mentenanta | E61: Piese pentru turbine cu abur | F61: 42113100-5 | G61: S,G | H61: 280000 | I61: productie | J61: LD | K61: 44931 | L61: 45016 | M61: online | N61: trim. 2, 3 | O61: P4 Ment | P61: Marcas | Q61: 280000 | R61: 0 | S61: 0
B62: IA57 | C62: produse | D62: Mentenanta | E62: Electropompe | F62: 42122000-0 | G62: ELCEN | H62: 2185000 | I62: productie | J62: LD | K62: trim.1 | L62: trim. 2, 3 | M62: online | N62: trim 2, 3, 4 | O62: P5 Ment | P62: Marcas | Q62: 2185000 | R62: 0 | S62: 0
B63: IA58 | C63: produse | D63: Mentenanta | E63: Pompe dozare Centrala cu ciclu combinat | F63: 42122230-1 | G63: V | H63: 74000 | I63: productie | J63: LD | K63: 44931 | L63: 45000 | M63: online | N63: 01.08.2023 | O63: P5 Ment | P63: Marcas | Q63: 74000 | R63: 0 | S63: 0
B64: IA59 | C64: produse | D64: Mentenanta | E64: Pompe centrifugale | F64: 42122430-3 | G64: V | H64: 625000 | I64: productie | J64: LD | K64: 44957 | L64: 45047 | M64: online | N64: 31.10.2023 | O64: P5 Ment | P64: tudor | Q64: 625000 | R64: 0 | S64: 0
B65: IA60 | C65: produse | D65: Mentenanta | E65: Piese schimb pompe si electropompe | F65: 42124000-4 | G65: ELCEN | H65: 1045000 | I65: productie | J65: LD modificat la PS | K65: trim.1 | L65: trim. 2 | M65: online | N65: trim 2, 3, 4 | O65: P6 Ment | P65: Tudor | Q65: 1045000 | R65: 0 | S65: 0
B66: IA61 | C66: produse | D66: Mentenanta | E66: Piese de schimb pompe centrifuge | F66: 42124290-3 | G66: V | H66: 225000 | I66: productie | J66: LD modificat la PS | K66: 44957 | L66: 45047 | M66: online | N66: 31.10.2023 | O66: P6 Ment | P66: Itu | Q66: 225000 | R66: 0 | S66: 0
B67: IA62 | C67: produse | D67: Mentenanta | E67: Piese schimb compresoare | F67: 42124330-6 | G67: ELCEN | H67: 306000 | I67: productie | J67: PS | K67: trim.1 | L67: trim. 2, 3 | M67: online | N67: trim. 2,3,4 | P67: Ionita | Q67: 306000 | R67: 0 | S67: 0
B68: IA63 | C68: produse | D68: Aprov | E68: Armaturi industriale, clapeti retinere, robineti AMC | F68: 42131000-6 | G68: ELCEN | H68: 4155445.7 | I68: productie | J68: LD | K68: conform solicitari | L68: conform solicitari | M68: online | N68: trim II-IV | O68: P7 Aprov | P68: Almaciu | Q68: 4155445.7 | R68: 0 | S68: 0
B69: IA64 | C69: produse | D69: Mentenanta | E69: Robinete si vane | F69: 42131000-6 | G69: G,S | H69: 1810000 | I69: productie | J69: LD | K69: trim.1 | L69: trim 2 | M69: online | N69: trim. 2, 3 | O69: P7 Aprov | P69: Almaciu | Q69: 1810000 | R69: 0 | S69: 0
B70: IA65 | C70: produse | D70: Aprov | E70: Robineti trecere gaze, apa, hidrogen gazos | F70: 42131120-3 | G70: ELCEN | H70: 24505.8 | I70: productie | J70: LD | K70: conform solicitari | L70: conform solicitari | M70: online | N70: trim I-IV | O70: P7 Aprov | P70: Almaciu | Q70: 24505.8 | R70: 0 | S70: 0
B71: IA66 | C71: produse | D71: Mentenanta | E71: Piese schimb robinete sau vane | F71: 42132000-3 | G71: V,P | H71: 502000 | I71: productie | J71: PS | K71: trim.1 | L71: trim. 2 | M71: online | N71: trim. 3, 4 | P71: Almaciu | Q71: 502000 | R71: 0 | S71: 0
B72: IA67 | C72: produse | D72: Mentenanta | E72: Cuplaje elastice pompe | F72: 42141700-6 | G72: V | H72: 50000 | I72: productie | J72: LD modificat la PS | K72: 44931 | L72: 45000 | M72: online | N72: 01.08.2023 | O72: P6 Ment | P72: Marcas | Q72: 50000 | R72: 0 | S72: 0
B73: IA68 | C73: produse | D73: Mentenanta | E73: Schimbătoare de căldură | F73: 42511100-2 | G73: S, V | H73: 273000 | I73: productie | J73: PS | K73: trim.1 | L73: trim. 2 | M73: online | N73: trim. 2, 3 | P73: Ene | Q73: 273000 | R73: 0 | S73: 0
B74: IA69 | C74: produse | D74: Mentenanta | E74: Filtre aer Donaldson | F74: 42514310-8 | G74: V | H74: 470000 | I74: productie | J74: PS | K74: 44940 | L74: 45000 | M74: online | N74: 01.08.2023 | P74: Ionita | Q74: 470000 | R74: 0 | S74: 0
B75: IA70 | C75: produse | D75: Mentenanta | E75: Filtre de gaz | F75: 42514320-1 | G75: V | H75: 300000 | I75: productie | J75: PS | K75: 44940 | L75: 45000 | M75: online | N75: 01.08.2023 | O75: similar IIIA166 pentru filtre ulei - 79839 lei (DDA 10); similar IA78 pentru filtre aer - 421.097,8 lei (DDA 441/2022) | P75: Bolocan | Q75: 300000 | R75: 0 | S75: 0
B76: IA71 | C76: produse | D76: Mentenanta | E76: Piese pentru ventilatoare | F76: 42522100-2 | G76: V | H76: 594000 | I76: productie | J76: PS | K76: 44940 | L76: 45000 | M76: online | N76: 01.08.2023 | P76: Bolocan | Q76: 594000 | R76: 0 | S76: 0
B77: IA72 | C77: produse | D77: Mentenanta | E77: Instalatie de dozare | F77: 42993200-5 | G77: S | H77: 400000 | I77: productie | J77: PS | K77: 45001 | L77: 45061 | M77: online | N77: trim.2,3,4 | P77: Itu | Q77: 400000 | R77: 0 | S77: 0
B78: IA73 | C78: produse | D78: Aprov | E78: Conducte apa si abur, tevi de termoficare | F78: 44163140-3 | G78: ELCEN | H78: 6146776 | I78: productie | J78: PS modificat la LD | K78: 44931 | L78: 44986 | M78: online | N78: trim II-III | P78: Ene | Q78: 6146776 | R78: 0 | S78: 0
B79: IA74 | C79: produse | D79: Aprov | E79: Snur marsit si pachete de etansare | F79: 44163240-4 | G79: ELCEN | H79: 195943.7 | I79: productie | J79: PS | K79: 45231 | L79: 45291 | M79: online | N79: trim III-IV | O79: P8 Aprov | P79: Leu | Q79: 137160.6 | R79: 58783.1 | S79: 0
B80: IA75 | C80: produse | D80: Aprov | E80: Tabla neagra, zincata, striata, inox si cupru si aluminiu | F80: 44174000-0 | G80: ELCEN | H80: 403200 | I80: productie | J80: PS | K80: 45109 | L80: 45169 | M80: online | N80: trim III-IV | P80: Ene | Q80: 183200 | R80: 220000 | S80: 0
B81: IA76 | C81: produse | D81: Aprov | E81: Garnituri din placi de marsit | F81: 44430000-3 | G81: ELCEN | H81: 209196.29 | I81: productie | J81: PS | K81: 44931 | L81: 44985 | M81: online | N81: trim I-IV | O81: P8 Aprov | P81: Leu | Q81: 146437.4 | R81: 62758.89 | S81: 0
B82: IA77 | C82: produse | D82: Aprov | E82: Dispozitive de protectie impotriva incendiilor (furtunuri, hidranti si accesorii PSI) | F82: 44482000-2 | G82: ELCEN | H82: 85000 | I82: productie | J82: PS | K82: conform solicitari | L82: conform solicitari | M82: offline | N82: trim I-IV | O82: P16 Aprov | P82: Peride | Q82: 85000 | R82: 0 | S82: 0
B83: IA78 | C83: produse | E83: Nenominalizate | G83: ELCEN | H83: 1627020.6 | I83: productie | Q83: 1625520.6 | R83: 1500 | S83: 0
A84: 1 | B84: IA78 | C84: produse | D84: Aprov | E84: Piese schimb polizor Bosch (comutator; modul electronic, set roti conice, set perii carbon, mufa) | F84: 34913000-0 | G84: UR | H84: 317 | I84: productie | J84: AD | K84: 44932 | L84: 44963 | M84: offline | P84: EO | Q84: 317 | R84: 0 | S84: 0
A85: 2 | B85: IA78 | C85: produse | D85: Aprov | E85: Canepa | F85: 19400000-0 | G85: UR | H85: 12.67 | I85: productie | J85: AD | K85: 44935 | L85: 44966 | M85: offline | P85: EO | Q85: 12.67 | R85: 0 | S85: 0
A86: 3 | B86: IA78 | C86: produse | D86: Aprov | E86: Scara aluminiu (2x4 trepte) | F86: 44423200-3 | G86: P | H86: 252.1 | I86: productie | J86: AD | K86: 44936 | L86: 44967 | M86: offline | P86: EO | Q86: 252.1 | R86: 0 | S86: 0
A87: 4 | B87: IA78 | C87: produse | D87: Logistica | E87: Ușă interior/exterior din PVC, cu geam termopan 1/3 Far Est tip 1, 3 camere, prag aluminiu, stânga, alb, 67 x 202 cm, dimensiune gol zid 70 x 205 cm | F87: 44221200-7 | G87: UR | H87: 1323.61 | I87: productie | J87: AD | K87: 44939 | L87: 44970 | M87: offline | P87: EO | Q87: 1323.61 | R87: 0 | S87: 0
A88: 5 | B88: IA78 | C88: produse | D88: Aprov | E88: Rotametru Georg Fischer tip SK30; Ejector Georg Fischer tip P20 | F88: 38429000-8; 42956000-2 | G88: V | H88: 9664.87 | I88: productie | J88: AD | K88: 44944 | L88: 44975 | M88: online | P88: EO | Q88: 9664.87 | R88: 0 | S88: 0
A89: 6 | B89: IA78 | C89: produse | D89: Aprov | E89: Piese schimb polizor Bosch (cablu alimentare, set perii carbon Bosch, perii carbon Makita) | F89: 34913000-0 | G89: UR | H89: =266+42.02 -> 308.02 | I89: productie | J89: AD | K89: 44952 | L89: 44983 | M89: offline | P89: EO | Q89: =266+42.02 -> 308.02 | R89: 0 | S89: 0
A90: 7 | B90: IA78 | C90: produse | D90: BITC | E90: Statie de lucru i3, 8 GB RAM, 512GB SSD + SO | F90: 30213300-8 | G90: BITC | H90: 2342.02 | I90: productie | J90: AD | K90: 44953 | L90: 44984 | M90: offline | O90: P2 INV | P90: EO | Q90: 2342.02 | R90: 0 | S90: 0
A91: 8 | B91: IA78 | C91: produse | D91: Aprov | E91: Rezistente de incalzit prezoane 460 mmxfi18 mm 3 buc; 650 mmxfi18 mm 3 buc | F91: 39715220-5 | G91: UR | H91: 3915 | I91: productie | J91: AD | K91: 44959 | L91: 44987 | M91: offline | P91: EO | Q91: 3915 | R91: 0 | S91: 0
A92: 9 | B92: IA78 | C92: produse | D92: Aprov | E92: Servomotor pentru arzatorul nr.3.3 de la CAF nr.4 CTE Grozavesti | F92: 42390000-6 | G92: G | H92: 13535 | I92: productie | J92: AD | K92: 44977 | L92: 45005 | M92: offline | O92: similar IA33 | P92: EO | Q92: 13535 | R92: 0 | S92: 0
A93: 11 | B93: IA78 | C93: produse | D93: Aprov | E93: Ansamblu flansa cu lagar, polizor unghiular Bosch GWS 24-230 JVX/3601 H64 U07/230V | F93: 34913000-0 | G93: UR | H93: 480 | I93: productie | J93: AD | K93: 44970 | L93: 44998 | M93: offline | P93: EO | Q93: 480 | R93: 0 | S93: 0
A94: 12 | B94: IA78 | C94: produse | D94: Logistica | E94: Aparat de laminat | F94: 42932100-9 | G94: G | H94: 182 | I94: productie | J94: AD | K94: 44971 | L94: 44999 | M94: offline | P94: EO | Q94: 182 | R94: 0 | S94: 0
A95: 13 | B95: IA78 | C95: produse | D95: BITC | E95: TV Led UHD 2 buc; adaptor HDMI la DVI 24+1 YWD-FMM 2- 2 buc; suport suspendare perete TV/LCD 2 buc | F95: 32324100-1; 32351000-8;30237260-9 | G95: P | H95: 3492.38 | I95: productie | J95: AD | K95: 44973 | L95: 45001 | M95: offline | P95: EO | Q95: 3492.38 | R95: 0 | S95: 0
A96: 14 | B96: IA78 | C96: produse | D96: Mentenanta | E96: Centrala detectie si semnalizare la incendiu J424-8M (echipata cu doua module de extensie 8 zone J400-8M si acumulatori) aferenta Corp SPC (pompieri) din CTE Sud | F96: 31625200-5 | G96: S | H96: 4210.73 | I96: productie | J96: AD | K96: 44992 | L96: 45032 | M96: offline | P96: EO | Q96: 4210.73 | R96: 0 | S96: 0
A97: 15 | B97: IA78 | C97: produse | D97: Logistica | E97: Perdea gata facuta 140x300 cm, gri | F97: 39515000-5 | G97: UR | H97: 378.17 | I97: productie | J97: AD | K97: 44984 | L97: 45012 | M97: offline | P97: EO | Q97: 378.17 | R97: 0 | S97: 0
A98: 16 | B98: IA78 | C98: produse | D98: Logistica | E98: Roata roaba plina 3,5-8 - 2buc; Saci rafie 15 buc/set - 1 set; Var calcinat pulbere (stins) 25 kg/sac - 7 buc | F98: 34324000-4; 18937000-6; 24213000-0 | G98: G | H98: 515 | I98: productie | J98: AD | K98: 44991 | L98: 45022 | M98: offline | P98: EO | Q98: 515 | R98: 0 | S98: 0
A99: 17 | B99: IA78 | C99: produse | D99: BITC | E99: Unitate de lucru i3, 8 GB RAM, 512GB SSD + SO | F99: 30213300-8 | G99: ELCEN | H99: 7800 | I99: productie | J99: AD | K99: 44991 | L99: 45022 | M99: offline | O99: P2 INV | P99: EO | Q99: 7800 | R99: 0 | S99: 0
A100: 18 | B100: IA78 | C100: produse | D100: BITC | E100: Camera supraveghere video; Card MicroSD | F100: 35125300-2; 30233110-5 | G100: S | H100: 990 | I100: productie | J100: AD | K100: 44992 | L100: 45023 | M100: offline | P100: EO | Q100: 990 | R100: 0 | S100: 0
A101: 19 | B101: IA78 | C101: produse | D101: Logistica | E101: Scara portabila de aluminiu (3x7 trepte) | F101: 44423200-3 | G101: UR | H101: 823.4 | I101: productie | J101: AD | K101: 44992 | L101: 45023 | M101: offline | P101: EO | Q101: 823.4 | R101: 0 | S101: 0
B102: IA79 | C102: produse | D102: Aprov | E102: Vata minerala | F102: 44111520-2 | G102: ELCEN | H102: 450500 | I102: productie | J102: PS | K102: 44998 | L102: 45063 | M102: online | N102: trim II-III | P102: Vraciu | Q102: 450500 | R102: 0 | S102: 0
...

Sheet ANEXA 2
B2: Anexa 2 | D2: STRATEGIA ANUALA DE ACHIZITII SECTORIALE
D3: ACHIZITII EXCEPTATE DE LA APLICAREA LEGISLATIEI DE ACHIZITII SECTORIALE
B6: Nr crt | D6: Obiect contract | E6: Cod CPV | F6: Valoare estimata (lei fara TVA) | G6: CET | H6: Sursa de finantare | I6: Procedura ce urmeaza a fi aplicata | J6: Data estimata pentru initiere procedura procedura | K6: Data estimata pentru finalizare procedura | L6: Perioada estimata pentru darea in consum | M6: Persoana responsabila pentru atribuirea contractului | N6: Observatii | O6: Valoare estimata a se cheltui in 2023 | P6: Valoare estimata a se cheltui in 2024
B7: A | D7: COMBUSTIBIL
B8: 1 | C8: Combustibil | D8: Gaze naturale | E8: 09123000-7 | F8: 4.8404397e+09 | G8: S,P,G,V | H8: productie | I8: conform reglementari ANRE | K8: ian.2023 | L8: febr.2023-dec.2024 | M8: Serv Combustibil | N8: exceptie in conf. cu art.39 din legea 99/2016 | O8: 3.196438e+09 | P8: =F8-O8 -> 1.6440017e+09
B9: 2 | C9: Combustibil | D9: Transport gaze naturale | E9: 60300000-1 | F9: 71954323 | G9: S,P,G,V | H9: productie | I9: conform reglementari ANRE | K9: sept.2023 | L9: oct.2023-sept.2024 | M9: Serv Combustibil | N9: exceptie in conf. cu art.39 din legea 99/2016 | O9: 20000000 | P9: =F9-O9 -> 51954323
B10: 3 | C10: Combustibil | D10: Distributie gaze naturale | E10: 65210000-8 | F10: 1.3416146e+08 | G10: S,P,G,V | H10: productie | I10: conform reglementari ANRE | K10: sept.2023 | L10: oct.2023-sept.2024 | M10: Serv Combustibil | N10: exceptie in conf. cu art.39 din legea 99/2016 | O10: 36200000 | P10: =F10-O10 -> 97961460
B11: 4 | C11: Combustibil | D11: Alte servicii aferente combustibilului | E11: 65200000-5 | F11: 200000 | G11: S,P,G,V | H11: productie | I11: conform reglementari ANRE | K11: an 2023 | L11: an 2023 | M11: Serv Combustibil | N11: exceptie in conf. cu art.39 din legea 99/2016 | O11: 200000 | P11: =F11-O11 -> 0
D12: TOTAL COMBUSTIBIL | F12: 5.0467555e+09 | O12: =SUM(O8:O11) -> 3.252838e+09 | P12: =SUM(P8:P11) -> 1.7939175e+09 | Q12: =O12+P12 -> 5.0467555e+09
B15: B | D15: ENERGIE ELECTRICA
B16: 1 | C16: Sinteze | D16: Energie electrica | E16: 09310000-5 | F16: 2470000 | G16: ELCEN | H16: productie | I16: conform reglementari ANRE | K16: 45291 | L16: trim 1,2,3,4 | M16: Serv Analize si Sinteze | N16: exceptie in conf. cu art.39 din legea 99/2016 | O16: 2470000 | P16: =F16-O16 -> 0
B17: 2 | C17: Sinteze | D17: Distributie energie electrica | E17: 65310000-9 | F17: 280000 | G17: ELCEN | H17: productie | I17: conform reglementari ANRE | K17: 45016 | L17: trim 1,2,3,4 | M17: Serv Analize si Sinteze | N17: exceptie in conf. cu art.39 din legea 99/2016 | O17: 233333 | P17: =F17-O17 -> 46667
D18: TOTAL ENERGIE ELECTRTICA | F18: 2750000 | O18: =SUM(O16:O17) -> 2703333 | P18: =SUM(P16:P17) -> 46667 | Q18: =O18+P18 -> 2750000
B22: C | D22: APA PENTRU PRODUCERE ENERGIE
B23: 1 | C23: Tehn. | D23: Utilizarea resurselor de apă de subteran pentru CTE Progresu şi CTE Bucureşti Vest şi primirea apelor uzate in resursele de apă de suprafaţă -Valea Maminei | E23: 41100000-0 | F23: 12000 | G23: V,P | H23: productie | I23: procedura ELCEN | K23: 45017 | L23: 45017 | M23: Ionescu C | N23: exceptie in conf. cu art.38 din legea 99/2016 | O23: 9600 | P23: 2400
B24: 2 | C24: Tehn. | D24: Furnizare servicii de alimentare cu apa potabila si industriala, si prestare servicii de canalizare pentru centralele Electrocentrale Bucuresti SA | E24: 65100000-4 | F24: 71481821 | G24: S,V,P,G | H24: productie | I24: procedura ELCEN | K24: 44926 | L24: 44927 | M24: Ionescu C | N24: exceptie in conf. cu art.38 din legea 99/2016 | O24: 14296364 | P24: =F24-O24 -> 57185457
D25: TOTAL APA PENTRU PRODUCERE ENERGIE | F25: 71493821 | O25: =SUM(O23:O24) -> 14305964 | P25: =SUM(P23:P24) -> 57187857 | Q25: =O25+P25 -> 71493821
B35: D | D35: ALTE SERVICII ATRIBUITE IN BAZA UNUI DREPT EXCLUSIV
B36: 1 | C36: Tehn. | D36: Monitorizare de audit a caracteristicilor fizico-chimice si microbiologice la apa din forajul de mare adancime pentru obtinerea autorizatiei sanitare de functionare din CTE Bucuresti Vest | E36: 90733700-1 | F36: 21000 | G36: V | H36: productie | I36: procedura ELCEN | K36: 44986 | L36: trim.2 | M36: Ionescu C | N36: exceptie in conf. cu art.38 din legea 99/2016 | O36: 21000 | P36: 0
B37: 2 | C37: ISCIR | D37: Verificari tehnice in utilizare si autorizare ISCIR a instalatiilor sub presiune si de ridicat | E37: 71631000-0 | F37: 190000 | G37: ELCEN | H37: productie | I37: procedura ELCEN | K37: 44972 | L37: trim.1 | M37: Ivascu | N37: exceptie in conf. cu art.38 din legea 99/2016 | O37: 190000 | P37: 0
B38: 3 | C38: Logistica | D38: Servicii de colectare, ridicare, transport, depozitare gunoi menajer CTE Sud | E38: 90511200-4 | F38: 50000 | G38: S | H38: productie | J38: conform solicitare | K38: conform solicitare | L38: 365 zile | M38: Ene | N38: exceptie in conf. cu art.38 din legea 99/2016 | O38: 4500 | P38: =F38-O38 -> 45500
B39: 4 | C39: Combustibil | D39: Inmagazinare gaze naturale | E39: 76100000-4 | F39: 16000000 | G39: ELCEN | H39: productie | K39: 44986 | L39: nov.2023-martie 2024 | M39: Serv Combustibil | N39: exceptie in conf. cu art.38 din legea 99/2016 | O39: 9600000 | P39: =F39-O39 -> 6400000
D40: TOTAL ALTE SERVICII | F40: 16261000 | O40: =SUM(O36:O39) -> 9815500 | P40: =SUM(P36:P39) -> 6445500 | Q40: =O40+P40 -> 16261000
B44: E | D44: ALTE EXCEPTII
B45: 1 | C45: Comercializare Energie si Reglementari | D45: Achizitie certificate verzi - producator cu obligatia de achizitie CV | E45: 90731000-0 | F45: 52000 | G45: ELCEN | H45: productie | I45: conform reglementari ANRE | K45: 45291 | L45: trim 1,2,3,4 | M45: Comercializare Energie si Reglementari | N45: exceptie in conf. cu art.37 al (1) lit "e" din legea 99/2016 Reglementari ANRE privind tranzactionarea in cadrul pietei centralizate de certificate verzi - piata administrata de OPCOM | O45: 52000 | P45: 0
B46: 2 | C46: Mediu | D46: Achizitie certificate emisii gaze cu efect de sera pt conformare 2023 | E46: 90731210-5 | F46: 950000000 | G46: ELCEN | H46: productie | K46: 45016 | L46: trim 1, 4 2023 | M46: Kedei | N46: exceptie in conf. cu art.37 al (1) lit "e" din legea 99/2016 coroborat cu legea 24/2017 art.2 al.(1) pct.17 lit "k" | O46: 950000000 | P46: 0
B47: 3 | C47: Juridic | D47: Servicii de asistenta si reprezentare juridica | E47: 79111000-5 | F47: 26000 | G47: ELCEN | H47: productie | K47: ocazional | L47: ocazional | M47: Juridic | N47: exceptie in conf. cu art.37 din legea 99/2016 | O47: 26000 | P47: 0
D49: TOTAL ALTE EXCEPTII | F49: 950078000 | O49: =SUM(O45:O47) -> 950078000 | P49: =SUM(P45:P47) -> 0
D53: TOTAL ANEXA 2 | F53: =F12+F18+F25+F40+F49 -> 6.0873383e+09
K60: SEF SERV. ACHIZITII | M60: Roxana Kedei
K62: SEF B.M.A.P | M62: Anca Ordean
K64: ELABORAT | M64: Cristina Peride

Sheet AC
J1: ANEXA 3
C2: PROGRAM ACHIZITII
C3: MONITORIZARE ACORDURI CADRU
A5: Nr | B5: tip contract | C5: Obiectul acordului cadru | D5: Cod CPV | E5: EO derulatoare | F5: Responsabil achizitie | G5: Valoare estimata an curent | H5: Nr acord cadru | I5: Poz PAA/ an atribuire | J5: FIRMA | K5: An contract subsecvent | L5: Nr contract subsecvent | M5: Valoare (lei fara TVA) | N5: Anunt atribuire | O5: Doc constatator
A6: 1 | B6: lucrari | C6: LN3 Lucrari de refacere zidarie refractara/izolatii termice la cazanele de abur din CTE Sud | D6: 45321000-3 | E6: Mentenanta | F6: Ionita | H6: AC 423/13.09.2022 | I6: IC6 | J6: ROMTAM | K6: 2022 | M6: 280000 | N6: SCNA1075936/13.09.2022
L7: 1 (531)/10.11.2022 | M7: 145091 | N7: SCNA1075936/11.11.2022
M12: =M6-M7 -> 134909

Sheet Centralizator
D3: S.A.S 2023
D4: CENTRALIZATOR
C6: Cap.1. | D6: PROGRAM ACHIZITII | E6: (lei fara TVA) | G6: Valoare estimata a se cheltui in 2023 | H6: Valoare estimata a se cheltui in 2024 | I6: Valoare estimata a se cheltui in 2025-2026
D7: FONDURI DE PRODUCTIE | E7: =E9+E10+E11 -> 2.0208548e+08 | G7: =G9+G10+G11 -> 1.3902346e+08 | H7: =H9+H10+H11 -> 22862017 | I7: =I9+I10+I11 -> 40200000
D8: din care:
D9: PRODUSE | E9: ='ANEXA 1'!H104 -> 67513496 | G9: ='ANEXA 1'!Q104 -> 58531259 | H9: ='ANEXA 1'!R104 -> 8982237 | I9: ='ANEXA 1'!S104 -> 0
D10: SERVICII | E10: ='ANEXA 1'!H166 -> 1.0878697e+08 | G10: ='ANEXA 1'!Q166 -> 55507189 | H10: ='ANEXA 1'!R166 -> 13079780 | I10: ='ANEXA 1'!S166 -> 40200000
D11: LUCRARI | E11: ='ANEXA 1'!H180 -> 25785011 | G11: ='ANEXA 1'!Q180 -> 24985011 | H11: ='ANEXA 1'!R180 -> 800000 | I11: ='ANEXA 1'!S180 -> 0
D13: FONDURI DE INVESTITII | E13: =E15+E16+E17 -> 281302366 | G13: =G15+G16+G17 -> 21182820 | H13: =H15+H16+H17 -> 1.0952347e+08 | I13: =I15+I16+I17 -> 1.5059608e+08
D14: din care:
D15: PRODUSE | E15: ='ANEXA 1'!H210 -> 40755199 | G15: ='ANEXA 1'!Q210 -> 11433096 | H15: ='ANEXA 1'!R210 -> 26322103 | I15: ='ANEXA 1'!S210 -> 3000000
D16: SERVICII | E16: ='ANEXA 1'!H214 -> 2183500 | G16: ='ANEXA 1'!Q214 -> 2183500 | H16: ='ANEXA 1'!R214 -> 0 | I16: ='ANEXA 1'!S214 -> 0
C17: (*) | D17: LUCRARI | E17: ='ANEXA 1'!H221 -> 238363667 | G17: ='ANEXA 1'!Q221 -> 7566224 | H17: ='ANEXA 1'!R221 -> 83201363 | I17: ='ANEXA 1'!S221 -> 1.4759608e+08
C19: Cap.2 | D19: ACHIZITII DIRECTE
D20: FONDURI DE PRODUCTIE | E20: =E22+E23+E24 -> 15190822 | G20: =G22+G23+G24 -> 14256843 | H20: =H22+H23+H24 -> 925979.21 | I20: =I22+I23+I24 -> 8000
D21: din care:
D22: PRODUSE | E22: ='ANEXA 1'!H449 -> 8349138.5 | G22: ='ANEXA 1'!Q449 -> 7680359.2 | H22: ='ANEXA 1'!R449 -> 668779.21 | I22: ='ANEXA 1'!S449 -> 0
D23: SERVICII | E23: ='ANEXA 1'!H527 -> 4458684 | G23: ='ANEXA 1'!Q527 -> 4216484 | H23: ='ANEXA 1'!R527 -> 234200 | I23: ='ANEXA 1'!S527 -> 8000
D24: LUCRARI | E24: ='ANEXA 1'!H538 -> 2383000 | G24: ='ANEXA 1'!Q538 -> 2360000 | H24: ='ANEXA 1'!R538 -> 23000 | I24: ='ANEXA 1'!S538 -> 0
D26: FONDURI DE INVESTITII | E26: =E28+E29+E30 -> 1687600 | G26: =G28+G29+G30 -> 1687600 | H26: 0 | I26: 0
D27: din care:
D28: PRODUSE | E28: ='ANEXA 1'!H579 -> 1627600 | G28: ='ANEXA 1'!Q579 -> 1627600 | H28: ='ANEXA 1'!R579 -> 0 | I28: ='ANEXA 1'!S579 -> 0
D29: SERVICII | E29: ='ANEXA 1'!H583 -> 60000 | G29: ='ANEXA 1'!Q583 -> 60000 | H29: ='ANEXA 1'!R583 -> 0 | I29: ='ANEXA 1'!S583 -> 0
D30: LUCRARI | E30: 0 | G30: 0 | H30: 0 | I30: 0
D32: TOTAL PROGRAM ACHIZITII | E32: =E7+E13 -> 4.8338784e+08 | G32: =G7+G13 -> 1.6020628e+08 | H32: =H7+H13 -> 1.3238548e+08 | I32: =I7+I13 -> 1.9079608e+08
D33: TOTAL ACHIZITII DIRECTE | E33: =E20+E26 -> 16878422 | G33: =G20+G26 -> 15944443 | H33: =H20+H26 -> 925979.21 | I33: =I20+I26 -> 8000
D34: TOTAL | E34: =E32+E33 -> 5.0026626e+08 | G34: =G32+G33 -> 1.7615072e+08 | H34: =SUM(H32:H33) -> 1.3331146e+08 | I34: =SUM(I32:I33) -> 1.9080408e+08
D35: din care :
D36: din fonduri de PRODUCTIE | E36: =E7+E20 -> 2.172763e+08 | G36: =G7+G20 -> 1.532803e+08 | H36: =H7+H20 -> 23787996 | I36: =I7+I20 -> 40208000
D37: din fonduri de INVESTITII | E37: =E13+E26 -> 282989966 | G37: =G13+G26 -> 22870420 | H37: =H13+H26 -> 1.0952347e+08 | I37: =I13+I26 -> 1.5059608e+08
D39: TOTAL ANEXA 1 | E39: =E34 -> 5.0026626e+08 | G39: =G34 -> 1.7615072e+08 | H39: =H34 -> 1.3331146e+08 | I39: =I34 -> 1.9080408e+08
D41: ANEXA 2
D42: Combustibil | E42: ='ANEXA 2'!F12 -> 5.0467555e+09 | G42: ='ANEXA 2'!O12 -> 3.252838e+09 | H42: ='ANEXA 2'!P12 -> 1.7939175e+09 | I42: 0
D43: Energie electrica | E43: ='ANEXA 2'!F18 -> 2750000 | G43: ='ANEXA 2'!O18 -> 2703333 | H43: ='ANEXA 2'!P18 -> 46667 | I43: 0
D44: Apa pt producere energie electrica | E44: ='ANEXA 2'!F25 -> 71493821 | G44: ='ANEXA 2'!O25 -> 14305964 | H44: ='ANEXA 2'!P25 -> 57187857 | I44: 0
D45: Alte servicii atribuite in baza unui drept exclusiv | E45: ='ANEXA 2'!F40 -> 16261000 | G45: ='ANEXA 2'!O40 -> 9815500 | H45: ='ANEXA 2'!P40 -> 6445500 | I45: 0
D46: Alte exceptii (certificare verzi, EUA, servicii asistenta si reprezentare juridica) | E46: ='ANEXA 2'!F49 -> 950078000 | G46: ='ANEXA 2'!O49 -> 950078000 | H46: ='ANEXA 2'!P49 -> 0 | I46: 0 | J46: Suma de 157.951.161 lei aferenta achizitiei pentru conformare cu 2022 a fost prevazuta in bugetul anului 2022
I47: 0
D48: TOTAL ANEXA 2 | E48: =SUM(E42:E47) -> 6.0873383e+09 | G48: =SUM(G42:G47) -> 4.2297408e+09 | H48: =SUM(H42:H47) -> 1.8575975e+09 | I48: 0
D51: TOTAL GENERAL | E51: =E48+E39 -> 6.5876046e+09 | G51: =G39+G48 -> 4.4058915e+09 | H51: =H39+H48 -> 1.990909e+09 | I51: =I39 -> 1.9080408e+08
D55: SEF SERV. ACHIZITII | E55: Roxana Kedei
D57: Sef B.M.A.P | E57: Anca Ordean
D59: Elaborat | E59: Cristina Peride
